BEGIN:VCALENDAR
VERSION:2.0
PRODID:-//Iron County Lodging Association - ECPv6.15.18//NONSGML v1.0//EN
CALSCALE:GREGORIAN
METHOD:PUBLISH
X-WR-CALNAME:Iron County Lodging Association
X-ORIGINAL-URL:https://ironcountylodging.com
X-WR-CALDESC:Events for Iron County Lodging Association
REFRESH-INTERVAL;VALUE=DURATION:PT1H
X-Robots-Tag:noindex
X-PUBLISHED-TTL:PT1H
BEGIN:VTIMEZONE
TZID:America/Chicago
BEGIN:DAYLIGHT
TZOFFSETFROM:-0600
TZOFFSETTO:-0500
TZNAME:CDT
DTSTART:20240310T080000
END:DAYLIGHT
BEGIN:STANDARD
TZOFFSETFROM:-0500
TZOFFSETTO:-0600
TZNAME:CST
DTSTART:20241103T070000
END:STANDARD
BEGIN:DAYLIGHT
TZOFFSETFROM:-0600
TZOFFSETTO:-0500
TZNAME:CDT
DTSTART:20250309T080000
END:DAYLIGHT
BEGIN:STANDARD
TZOFFSETFROM:-0500
TZOFFSETTO:-0600
TZNAME:CST
DTSTART:20251102T070000
END:STANDARD
BEGIN:DAYLIGHT
TZOFFSETFROM:-0600
TZOFFSETTO:-0500
TZNAME:CDT
DTSTART:20260308T080000
END:DAYLIGHT
BEGIN:STANDARD
TZOFFSETFROM:-0500
TZOFFSETTO:-0600
TZNAME:CST
DTSTART:20261101T070000
END:STANDARD
END:VTIMEZONE
BEGIN:VEVENT
DTSTART;TZID=America/Chicago:20251110T080000
DTEND;TZID=America/Chicago:20251110T170000
DTSTAMP:20260421T110930
CREATED:20251110T225211Z
LAST-MODIFIED:20251110T225211Z
UID:9857-1762761600-1762794000@ironcountylodging.com
SUMMARY:Ski Brule Ski & Golf Season Pass
DESCRIPTION:Take advantage of the 2025/26 Ski & Golf Season Pass from Ski Brule and The Miners’ 9 Golf Course\, offering year-round recreation in Iron County\, Michigan. This combined pass gives families and individuals access to two of the area’s top destinations—winter skiing at Ski Brule and summer golf at The Miners’ 9. \nSeason Pass Sales Period:\n📅 October 5\, 2025 – January 6\, 2026 \nEnjoy unlimited access to: \nSki Brule Resort – one of Michigan’s premier family ski destinations with early snow\, groomed trails\, terrain parks\, and winter activities. \nThe Miners’ 9 Golf Course – scenic fairways and relaxed summer rounds in the heart of Iron County. \nFamily Season Pass:\nIncludes 2 adults and up to 4 dependent children (17 & under). \nTo view full pass options\, rates\, and benefits\, visit the official Ski Brule Season Pass page or call 1-800-362-7853 for details. \nPlan your stay and enjoy both winter and summer adventures in Iron County—find nearby lodging at Iron County Hotels & Lodging. \nSales Dates: October 5\, 2025 – January 6\, 2026\nLocations: Ski Brule & The Miners’ 9\, Iron County\, Michigan\nActivities: Skiing & Golf
URL:https://ironcountylodging.com/event/ski-brule-ski-golf-season-pass/
LOCATION:Ski Brule\, 397 Brule Mountain Rd\, Iron River\, MI\, 49935\, United States
CATEGORIES:Family Event,outdoor recreation,Winter
ATTACH;FMTTYPE=image/png:https://ironcountylodging.com/wp-content/uploads/2025/11/Golf.Ski_.SeasonPass-3-scaled-1.png
END:VEVENT
BEGIN:VEVENT
DTSTART;VALUE=DATE:20251115
DTEND;VALUE=DATE:20251116
DTSTAMP:20260421T110930
CREATED:20251027T233546Z
LAST-MODIFIED:20251217T202311Z
UID:9630-1763164800-1763251199@ironcountylodging.com
SUMMARY:Michigan Firearm Deer Season 2025 - Iron County\, MI
DESCRIPTION: Michigan Firearm Deer Season 2025 begins in Iron County on November 15 and continues through November 30. The Michigan firearm deer season offers hunters the best opportunity to enjoy crisp air\, scenic forests\, and abundant wildlife in Michigan’s Upper Peninsula.  \nIron County is a favorite destination for outdoor sportsmen. The region provides easy access to public hunting land\, wooded ridges\, and peaceful lakes. Because of this variety\, hunters travel here every November for a safe and successful hunt. The Michigan Department of Natural Resources manages the season statewide and provides updated regulations\, harvest reporting\, and safety guidelines.  \nBefore heading into the field\, hunters should secure the proper licenses through the Michigan DNR eLicense system. In addition\, check local sunrise and sunset times and always wear visible hunter orange. The Upper Peninsula weather can change quickly; therefore\, pack extra layers and cold-weather gear. Local outfitters such as Xtreme Outdoors and Hardcore Outfitters can help you find supplies and share current deer activity reports.  \nIron County also offers the perfect setting to relax after a day outdoors. Local restaurants\, shops\, and lodging make it easy to extend your stay. Families and hunting groups often plan weekend trips to enjoy the area’s welcoming small-town charm. Moreover\, easy highway access makes Iron County convenient for visitors from Wisconsin and Lower Michigan.  \n\nPlan your stay and make it a weekend getaway! Explore comfortable lodging options and plan your stay in Iron County through The Iron County Lodging Association 
URL:https://ironcountylodging.com/event/michigan-firearm-deer-season-iron-county-2025/
LOCATION:Iron County Lodging Association\, 1700 County Rd. 424\, Gaastra\, MI\, 49927\, United States
CATEGORIES:Hunting,outdoor recreation
END:VEVENT
BEGIN:VEVENT
DTSTART;TZID=America/Chicago:20251127T080000
DTEND;TZID=America/Chicago:20251130T140000
DTSTAMP:20260421T110930
CREATED:20251110T213903Z
LAST-MODIFIED:20251110T213903Z
UID:9846-1764230400-1764511200@ironcountylodging.com
SUMMARY:Ski Brule Thanksgiving Ski Race Camp 2025
DESCRIPTION:Kick off your ski season with the 34th Annual Ski Brule Thanksgiving Ski Race Camp\, happening November 27 – 30\, 2025\, in Iron County\, Michigan. This early-season training program delivers world class coaching\, reliable snow\, and a focused environment for racers of all ages and abilities. \nFor over three decades\, Ski Brule has provided dependable early snow thanks to one of the most advanced snowmaking systems in the country ensuring consistent training conditions year after year. \nThe camp features instruction for high-school racers\, juniors\, masters\, and adults\, led by a professional staff that includes Level 100-500 USSA coaches and former elite competitors. Daily sessions emphasize fundamentals\, ski technique\, and biomechanics\, supported by video analysis and lectures on conditioning\, tactics\, and equipment. \nGroups are formed by age and skill level\, guaranteeing appropriate pacing for each participant. Parents may accompany younger athletes. \nSchedule: \nDates: Thursday – Sunday\, Nov 27 – 30 \nStart Time: 8:00 AM – 2:00 PM daily \nTraining Lift Opens: 9:00 AM \nEvening Sessions: 7:00 PM (TBA) \nFees: $100 per day | $380 for all four days \nLodging: Call 1-800-DO-BRULE or visit www.skibrule.com for lodging options including slopeside condos and nearby motels. \nQuestions? Contact Pat Slattery at 608-347-5741 or email info@skibrule.com. \nPlan your Thanksgiving getaway in Michigan’s Upper Peninsula and explore additional lodging options at Iron County Hotels & Lodging. \nLocation: Ski Brule Resort\, Iron County\, Michigan\nEvent Type: Ski Race Camp / Training Program\nAudience: Youth & Masters Racers
URL:https://ironcountylodging.com/event/ski-brule-thanksgiving-ski-race-camp-2025/
LOCATION:Ski Brule\, 397 Brule Mountain Rd\, Iron River\, MI\, 49935\, United States
CATEGORIES:outdoor recreation,sport,Winter
ATTACH;FMTTYPE=image/png:https://ironcountylodging.com/wp-content/uploads/2025/11/ICLA-960-by-540-1-1.png
END:VEVENT
END:VCALENDAR