BEGIN:VCALENDAR
VERSION:2.0
PRODID:-//Iron County Lodging Association - ECPv6.15.18//NONSGML v1.0//EN
CALSCALE:GREGORIAN
METHOD:PUBLISH
X-WR-CALNAME:Iron County Lodging Association
X-ORIGINAL-URL:https://ironcountylodging.com
X-WR-CALDESC:Events for Iron County Lodging Association
REFRESH-INTERVAL;VALUE=DURATION:PT1H
X-Robots-Tag:noindex
X-PUBLISHED-TTL:PT1H
BEGIN:VTIMEZONE
TZID:America/Chicago
BEGIN:DAYLIGHT
TZOFFSETFROM:-0600
TZOFFSETTO:-0500
TZNAME:CDT
DTSTART:20240310T080000
END:DAYLIGHT
BEGIN:STANDARD
TZOFFSETFROM:-0500
TZOFFSETTO:-0600
TZNAME:CST
DTSTART:20241103T070000
END:STANDARD
BEGIN:DAYLIGHT
TZOFFSETFROM:-0600
TZOFFSETTO:-0500
TZNAME:CDT
DTSTART:20250309T080000
END:DAYLIGHT
BEGIN:STANDARD
TZOFFSETFROM:-0500
TZOFFSETTO:-0600
TZNAME:CST
DTSTART:20251102T070000
END:STANDARD
BEGIN:DAYLIGHT
TZOFFSETFROM:-0600
TZOFFSETTO:-0500
TZNAME:CDT
DTSTART:20260308T080000
END:DAYLIGHT
BEGIN:STANDARD
TZOFFSETFROM:-0500
TZOFFSETTO:-0600
TZNAME:CST
DTSTART:20261101T070000
END:STANDARD
BEGIN:DAYLIGHT
TZOFFSETFROM:-0600
TZOFFSETTO:-0500
TZNAME:CDT
DTSTART:20270314T080000
END:DAYLIGHT
BEGIN:STANDARD
TZOFFSETFROM:-0500
TZOFFSETTO:-0600
TZNAME:CST
DTSTART:20271107T070000
END:STANDARD
END:VTIMEZONE
BEGIN:VEVENT
DTSTART;TZID=America/Chicago:20251201T000000
DTEND;TZID=America/Chicago:20251201T233000
DTSTAMP:20260421T094458
CREATED:20251110T182501Z
LAST-MODIFIED:20251217T203353Z
UID:9816-1764547200-1764631800@ironcountylodging.com
SUMMARY:Archery Season in Iron County\, Michigan
DESCRIPTION:Experience the excitement of Michigan’s Archery Season right here in Iron County\, where hunters can enjoy pristine wilderness\, abundant whitetail deer\, and a peaceful winter landscape. \nFrom December 1 through January 1\, bowhunters are invited to explore Iron County’s forests and public lands for an unforgettable hunting season. Whether you’re a seasoned archer or a first-time visitor\, Iron County’s natural beauty offers the ideal backdrop for your outdoor adventure. \nFor detailed hunting tips\, regulations\, and preparation advice\, visit our Iron County Deer Season Guide. \n 
URL:https://ironcountylodging.com/event/archery-season-in-iron-county-michigan/
LOCATION:Iron County Lodging Association\, 1700 County Rd. 424\, Gaastra\, MI\, 49927\, United States
CATEGORIES:Hunting,outdoor recreation
END:VEVENT
BEGIN:VEVENT
DTSTART;VALUE=DATE:20251204
DTEND;VALUE=DATE:20251205
DTSTAMP:20260421T094458
CREATED:20251110T204137Z
LAST-MODIFIED:20251217T201815Z
UID:9835-1764806400-1764892799@ironcountylodging.com
SUMMARY:Muzzleloading Season in Iron County\, Michigan
DESCRIPTION:Experience the thrill of Michigan’s Muzzleloading Season in Iron County\, running December 4 through December 15. Hunters from across the region head north to the Upper Peninsula for this unique late-season challenge that combines skill\, patience\, and tradition. \nIron County’s vast forests and public lands offer excellent opportunities for deer hunting in peaceful winter conditions. Hunters are encouraged to review the latest rules\, permits\, and safety updates provided by the Michigan Department of Natural Resources before heading out. \nFor in-depth preparation and local insight\, explore our Iron County Deer Season Guide\, which covers regulations\, gear tips\, and regional access points. \nWhen the day’s hunt is done\, relax and warm up in one of Iron County’s comfortable lodges or cabins. Plan your stay through Iron County Hotels & Lodging. \nDates: December 4 – December 15\nLocation: Iron County\, Michigan\nActivity Type: Hunting / Outdoor Recreation\nSeason: Winter
URL:https://ironcountylodging.com/event/muzzleloading-season-in-iron-county-michigan/
LOCATION:Iron County Lodging Association\, 1700 County Rd. 424\, Gaastra\, MI\, 49927\, United States
CATEGORIES:Hunting,outdoor recreation
END:VEVENT
BEGIN:VEVENT
DTSTART;TZID=America/Chicago:20251205T090000
DTEND;TZID=America/Chicago:20251207T160000
DTSTAMP:20260421T094458
CREATED:20251110T210415Z
LAST-MODIFIED:20251110T210514Z
UID:9838-1764925200-1765123200@ironcountylodging.com
SUMMARY:USSA Race & Training Weekend at Ski Brule
DESCRIPTION:Get ready for an exciting start to the competitive ski season as Ski Brule in Iron County\, Michigan proudly hosts a USSA Race from December 5–7\, 2025\, with a Training Day on December 5. This annual event brings together racers\, families\, and fans for a weekend of world-class skiing and winter fun in Michigan’s Upper Peninsula. \nRacer Tickets: \n1 Day – $61 \n2 Day – $118 \n3 Day – $174 \nTo book lodging\, call 1-800-362-7853 or reserve online at www.skibrule.com.\nFor event questions\, contact info@skibrule.com. \nPlan your Iron County ski weekend and explore nearby attractions\, dining\, and local lodging through Iron County Hotels & Lodging. \nEvent Dates: December 5–7\, 2025\nLocation: Ski Brule\, Iron County\, Michigan\nActivities: USSA Race\, Ski Training\, Winter Recreation
URL:https://ironcountylodging.com/event/ussa-race-training-weekend-at-ski-brule/
LOCATION:Ski Brule\, 397 Brule Mountain Rd\, Iron River\, MI\, 49935\, United States
CATEGORIES:sport,Winter
ATTACH;FMTTYPE=image/png:https://ironcountylodging.com/wp-content/uploads/2025/11/USSA-Race-Training-1-scaled-1.png
END:VEVENT
BEGIN:VEVENT
DTSTART;TZID=America/Chicago:20251211T080000
DTEND;TZID=America/Chicago:20260311T170000
DTSTAMP:20260421T094458
CREATED:20251213T204335Z
LAST-MODIFIED:20251214T183240Z
UID:10342-1765440000-1773248400@ironcountylodging.com
SUMMARY:Cross Country Ski & Snowshoe Trails Open at Young’s
DESCRIPTION:NOTICE !!! Trail #116 to Young’s will remain closed due to a swamp that is not frozen. Please stay off of this trail until we let you know that it is safe to ride!!!\nTrail #2 going south and the spur that goes over to the Wisconsin trail is open and safe to ride. These trails have low snow early riding conditions. – 12/14/26\nEnjoy winter recreation at Young’s Golf Recreation Dining with professionally groomed cross country ski and snowshoe trails. Explore scenic Northwoods terrain on well maintained routes designed for a range of abilities. Rentals are available on site\, making it easy for visitors and families to get outside and experience Iron County’s winter season.
URL:https://ironcountylodging.com/event/cross-country-ski-snowshoe-trails-open-at-youngs/
LOCATION:Young’s Golf-Recreation-Dining\, 159 Young's Lane\, Crystal Falls\, MI\, 49920\, United States
CATEGORIES:outdoor recreation,Winter
END:VEVENT
BEGIN:VEVENT
DTSTART;TZID=America/Chicago:20251212T090000
DTEND;TZID=America/Chicago:20251214T160000
DTSTAMP:20260421T094458
CREATED:20251110T234601Z
LAST-MODIFIED:20251217T203752Z
UID:9866-1765530000-1765728000@ironcountylodging.com
SUMMARY:CMSC Early Season Race & Clinic at Ski Brule
DESCRIPTION:Kick off your winter season at the CMSC Early Season Race & Clinic\, happening December 12–14\, 2025\, at Ski Brule in Iron County\, Michigan. Known for its reliable early snow and fun atmosphere\, this annual event brings together skiers from across the Midwest for a weekend of training\, racing\, and camaraderie. \nThe CMSC Package is designed for both competitive and recreational skiers: \n\n\n$318 per person includes 2 nights of lodging\, 2-day lift ticket\, 2 breakfasts\, and a Saturday BBQ dinner. (Price based on minimum occupancy.) \n\n\nFriday Race Clinic: $75 per person\, includes professional race training and lunch. \n\n\nEnjoy Michigan’s best early-season snow on Ski Brule’s perfectly groomed trails. Whether you’re sharpening your racing technique or looking for a winter getaway with friends\, this event combines skill development with classic Upper Peninsula hospitality. \nLearn more or register through Ski Brule’s CMSC Event Page.\nPlan your Iron County stay and explore additional lodging options at Iron County Hotels & Lodging. \nEvent Dates: December 12–14\, 2025\nLocation: Ski Brule\, 397 Brule Mtn Rd\, Iron River\, MI 49935\nActivities: Ski Racing\, Training Clinic\, Group Trip\nContact: 1-800 -362-7853| info@skibrule.com
URL:https://ironcountylodging.com/event/cmsc-early-season-race-clinic-ski-brule-2025/
LOCATION:Ski Brule\, 397 Brule Mountain Rd\, Iron River\, MI\, 49935\, United States
CATEGORIES:outdoor recreation,sport,Winter
END:VEVENT
BEGIN:VEVENT
DTSTART;VALUE=DATE:20251219
DTEND;VALUE=DATE:20251220
DTSTAMP:20260421T094458
CREATED:20251111T000538Z
LAST-MODIFIED:20251111T000705Z
UID:9871-1766102400-1766188799@ironcountylodging.com
SUMMARY:Ski Brule Holiday Hours for Snowsports
DESCRIPTION:Celebrate the holiday season on the slopes at Ski Brule in Iron County\, Michigan with extended daily and nightly ski hours during the 2025–2026 winter season. \nFrom December 19\, 2025 through January 4\, 2026\, Ski Brule will be open every day—including Christmas Eve\, Christmas Day\, New Year’s Eve\, and New Year’s Day—so you can enjoy the holidays on the mountain. \nOperating Schedule: \nDaily: 9:00 AM – 4:00 PM (Dec 19 – Jan 4) \nNightly: 4:30 PM – 7:30 PM (Dec 26 – Dec 31) \n🎟 Tickets: \nDay passes include night skiing at no extra cost. \nNight-only tickets: Ages 10+ $10\, Ages 9 and under free (day or night). \nNight Skiing Details:\nAvailable on Lower Sunrise\, Rapids\, Bunny\, and Bambi Trails\, serviced by the Pony Handle Tow and Bambi Rope Tow. Surface lifts operate during evening sessions (no chairlifts). \nRegular Friday and Saturday night sessions resume on January 2\, 2026. \nFor more details\, visit the Ski Brule website or contact 1-800-DO-BRULE (1-800-362-7853) or info@skibrule.com.\nExplore area lodging options at Iron County Hotels & Lodging. \nDates: December 19\, 2025 – January 4\, 2026\nLocation: Ski Brule\, 397 Brule Mtn Rd\, Iron River\, MI 49935\nActivities: Skiing\, Snowboarding\, Night Skiing
URL:https://ironcountylodging.com/event/ski-brule-holiday-hours-for-snowsports/
LOCATION:Ski Brule\, 397 Brule Mountain Rd\, Iron River\, MI\, 49935\, United States
CATEGORIES:Family Event,outdoor recreation,Winter
ATTACH;FMTTYPE=image/jpeg:https://ironcountylodging.com/wp-content/uploads/2025/11/Holiday-Operations-25.26.jpg
END:VEVENT
BEGIN:VEVENT
DTSTART;TZID=America/Chicago:20251220T080000
DTEND;TZID=America/Chicago:20251220T160000
DTSTAMP:20260421T094458
CREATED:20251111T003221Z
LAST-MODIFIED:20251111T003425Z
UID:9874-1766217600-1766246400@ironcountylodging.com
SUMMARY:17th Annual Ski Brule Ski Patrol Snowsports Enhancement Seminar
DESCRIPTION:Level up your on-snow skills at the 17th Annual Ski Brule Ski Patrol Snowsports Enhancement Seminar on Saturday\, December 20\, 2025. Hosted at Ski Brule (397 Brule Mountain Rd\, Iron River\, MI 49935) and sponsored by the North Central Region and Ski Brule Ski Patrol\, this one-day clinic welcomes candidates and patrollers. \nTraining groups form by interest and ability\, including Candidate\, Alpine\, Snowboard\, and Senior tracks. The day also celebrates Bob Salonen’s 60 years of patrolling. \nCheck-in: 8:00–8:45 AM \nTraining: 9:00 AM–3:30 PM \nRecognition & Toboggan Ride: 4:00 PM “Last Call & Toboggan Ride” \nFee: $20 per person (includes training\, lunch\, and pizza party) \nRegister by Dec 15: National Ski Patrol \nInfo: Lee Ann Heim \, duodiscovery@yahoo.com | 920-660-7842 \nMake it a winter weekend in Iron County. Find nearby lodging here: Iron County Hotels & Lodging. \nDate: December 20\, 2025\nLocation: Ski Brule\, Iron River\, Michigan\nAudience: NSP candidates and patrollers\nActivities: On-snow clinics\, recognition event
URL:https://ironcountylodging.com/event/17th-annual-ski-brule-ski-patrol-snowsports-enhancement-seminar/
LOCATION:Ski Brule\, 397 Brule Mountain Rd\, Iron River\, MI\, 49935\, United States
CATEGORIES:outdoor recreation,Winter
ATTACH;FMTTYPE=image/jpeg:https://ironcountylodging.com/wp-content/uploads/2025/11/ski-brule-.jpg
END:VEVENT
BEGIN:VEVENT
DTSTART;TZID=America/Chicago:20251229T090000
DTEND;TZID=America/Chicago:20251231T160000
DTSTAMP:20260421T094458
CREATED:20251209T145122Z
LAST-MODIFIED:20251209T145122Z
UID:10284-1766998800-1767196800@ironcountylodging.com
SUMMARY:Ride With Olympic Gold Medalist Nick Baumgartner
DESCRIPTION:This is your chance to hit the slopes with Olympic Gold Medalist Nick Baumgartner at Ski Brule! Join Nick for three incredible days December 29\, 30\, and 31 for on snow fun\, unforgettable winter experiences\, and the best early-season riding conditions. Perfect for fans\, families\, and anyone looking to level up their love of snow sports. \nSki Brule delivers some of the best snow in the Midwest\, and riding alongside Nick makes this a can’t-miss part of the holiday week.
URL:https://ironcountylodging.com/event/ride-with-olympic-gold-medalist-nick-baumgartner/
LOCATION:Ski Brule\, 397 Brule Mountain Rd\, Iron River\, MI\, 49935\, United States
CATEGORIES:outdoor recreation,Winter
END:VEVENT
END:VCALENDAR