BEGIN:VCALENDAR
VERSION:2.0
PRODID:-//Iron County Lodging Association - ECPv6.15.18//NONSGML v1.0//EN
CALSCALE:GREGORIAN
METHOD:PUBLISH
X-ORIGINAL-URL:https://ironcountylodging.com
X-WR-CALDESC:Events for Iron County Lodging Association
REFRESH-INTERVAL;VALUE=DURATION:PT1H
X-Robots-Tag:noindex
X-PUBLISHED-TTL:PT1H
BEGIN:VTIMEZONE
TZID:America/Chicago
BEGIN:DAYLIGHT
TZOFFSETFROM:-0600
TZOFFSETTO:-0500
TZNAME:CDT
DTSTART:20240310T080000
END:DAYLIGHT
BEGIN:STANDARD
TZOFFSETFROM:-0500
TZOFFSETTO:-0600
TZNAME:CST
DTSTART:20241103T070000
END:STANDARD
BEGIN:DAYLIGHT
TZOFFSETFROM:-0600
TZOFFSETTO:-0500
TZNAME:CDT
DTSTART:20250309T080000
END:DAYLIGHT
BEGIN:STANDARD
TZOFFSETFROM:-0500
TZOFFSETTO:-0600
TZNAME:CST
DTSTART:20251102T070000
END:STANDARD
BEGIN:DAYLIGHT
TZOFFSETFROM:-0600
TZOFFSETTO:-0500
TZNAME:CDT
DTSTART:20260308T080000
END:DAYLIGHT
BEGIN:STANDARD
TZOFFSETFROM:-0500
TZOFFSETTO:-0600
TZNAME:CST
DTSTART:20261101T070000
END:STANDARD
BEGIN:DAYLIGHT
TZOFFSETFROM:-0600
TZOFFSETTO:-0500
TZNAME:CDT
DTSTART:20270314T080000
END:DAYLIGHT
BEGIN:STANDARD
TZOFFSETFROM:-0500
TZOFFSETTO:-0600
TZNAME:CST
DTSTART:20271107T070000
END:STANDARD
END:VTIMEZONE
BEGIN:VEVENT
DTSTART;TZID=America/Chicago:20251211T080000
DTEND;TZID=America/Chicago:20260311T170000
DTSTAMP:20260421T080147
CREATED:20251213T204335Z
LAST-MODIFIED:20251214T183240Z
UID:10342-1765440000-1773248400@ironcountylodging.com
SUMMARY:Cross Country Ski & Snowshoe Trails Open at Young’s
DESCRIPTION:NOTICE !!! Trail #116 to Young’s will remain closed due to a swamp that is not frozen. Please stay off of this trail until we let you know that it is safe to ride!!!\nTrail #2 going south and the spur that goes over to the Wisconsin trail is open and safe to ride. These trails have low snow early riding conditions. – 12/14/26\nEnjoy winter recreation at Young’s Golf Recreation Dining with professionally groomed cross country ski and snowshoe trails. Explore scenic Northwoods terrain on well maintained routes designed for a range of abilities. Rentals are available on site\, making it easy for visitors and families to get outside and experience Iron County’s winter season.
URL:https://ironcountylodging.com/event/cross-country-ski-snowshoe-trails-open-at-youngs/
LOCATION:Young’s Golf-Recreation-Dining\, 159 Young's Lane\, Crystal Falls\, MI\, 49920\, United States
CATEGORIES:outdoor recreation,Winter
END:VEVENT
BEGIN:VEVENT
DTSTART;VALUE=DATE:20260108
DTEND;VALUE=DATE:20260112
DTSTAMP:20260421T080147
CREATED:20251213T224946Z
LAST-MODIFIED:20251213T225146Z
UID:10369-1767830400-1768175999@ironcountylodging.com
SUMMARY:25th Vintage World Championship Snowmobile Races
DESCRIPTION:Celebrate the history of snowmobile racing at the 25th Vintage World Championship Snowmobile Races. This multi-day event features classic vintage sleds from the 1960s through the 1980s competing on the ice\, along with vendor displays and manufacturer exhibits. A must see winter tradition for racing fans and snowmobile enthusiasts.
URL:https://ironcountylodging.com/event/25th-vintage-world-championship-snowmobile-races/
LOCATION:World Championship Derby Complex\, 1311 N Railroad At.\, Eagle River\, WI\, 54521\, United States
CATEGORIES:Entertainment,outdoor recreation,Winter
END:VEVENT
BEGIN:VEVENT
DTSTART;VALUE=DATE:20260117
DTEND;VALUE=DATE:20260119
DTSTAMP:20260421T080147
CREATED:20251213T225651Z
LAST-MODIFIED:20251213T225724Z
UID:10372-1768608000-1768780799@ironcountylodging.com
SUMMARY:6th World Championship Pro Enduro
DESCRIPTION:The World Championship Pro Enduro returns for an action packed weekend of elite snowmobile racing. Following the World Championship Snowmobile Derby\, top riders take on a demanding endurance format at the iconic Derby Complex in Eagle River. Spectators can experience high energy racing as drivers push speed\, skill\, and stamina to the limit in this premier winter motorsports event.
URL:https://ironcountylodging.com/event/6th-world-championship-pro-enduro/
LOCATION:World Championship Derby Complex\, 1311 N Railroad At.\, Eagle River\, WI\, 54521\, United States
CATEGORIES:Entertainment,outdoor recreation
END:VEVENT
BEGIN:VEVENT
DTSTART;VALUE=DATE:20260122
DTEND;VALUE=DATE:20260126
DTSTAMP:20260421T080147
CREATED:20251212T013645Z
LAST-MODIFIED:20251212T013645Z
UID:10307-1769040000-1769385599@ironcountylodging.com
SUMMARY:Military Appreciation Week at Ski Brule
DESCRIPTION:Ski Brule is honouring active duty military members\, veterans\, and their families during a dedicated Military Appreciation Week. This recognition event offers eligible guests and their accompanying families the opportunity to enjoy winter fun in celebration of their service.
URL:https://ironcountylodging.com/event/military-appreciation-week-at-ski-brule-2/
LOCATION:Ski Brule\, 397 Brule Mountain Rd\, Iron River\, MI\, 49935\, United States
CATEGORIES:outdoor recreation,Winter
END:VEVENT
BEGIN:VEVENT
DTSTART;TZID=America/Chicago:20260124T080000
DTEND;TZID=America/Chicago:20260124T170000
DTSTAMP:20260421T080147
CREATED:20251212T015936Z
LAST-MODIFIED:20251212T015936Z
UID:10310-1769241600-1769274000@ironcountylodging.com
SUMMARY:Ski Brule Cub Scout Day (Grades K–5)
DESCRIPTION:Ski Brule is hosting a special Cub Scout Day for scouts in grades K–5. Cub Scouts and their families are invited to participate in a morning skiing program that includes on snow instruction and winter activities. This youth focused event offers a fun and educational introduction to skiing in a supportive environment. \nPre-registration is required and must be completed by January 22 on the Ski Brule events page. \n 
URL:https://ironcountylodging.com/event/ski-brule-cub-scout-day-grades-k-5/
LOCATION:Ski Brule\, 397 Brule Mountain Rd\, Iron River\, MI\, 49935\, United States
CATEGORIES:outdoor recreation,Winter
END:VEVENT
BEGIN:VEVENT
DTSTART;VALUE=DATE:20260129
DTEND;VALUE=DATE:20260202
DTSTAMP:20260421T080147
CREATED:20251212T012350Z
LAST-MODIFIED:20251212T012350Z
UID:10300-1769644800-1769990399@ironcountylodging.com
SUMMARY:First Responders Appreciation Week at Ski Brule
DESCRIPTION:Ski Brule is recognizing first responders including EMS\, police\, firefighters\, and dispatch with a special Appreciation Week. Eligible guests and their families are invited to enjoy time together in appreciation of their service to the community.
URL:https://ironcountylodging.com/event/first-responders-appreciation-week-at-ski-brule/
LOCATION:Ski Brule\, 397 Brule Mountain Rd\, Iron River\, MI\, 49935\, United States
CATEGORIES:outdoor recreation,Winter
END:VEVENT
BEGIN:VEVENT
DTSTART;VALUE=DATE:20260131
DTEND;VALUE=DATE:20260201
DTSTAMP:20260421T080147
CREATED:20251212T020534Z
LAST-MODIFIED:20251212T020534Z
UID:10312-1769817600-1769903999@ironcountylodging.com
SUMMARY:Scouts BSA Winter Merit Badge Day
DESCRIPTION:Scouts BSA members in grades 6–12 are invited to participate in Winter Merit Badge Day at Ski Brule. This full-day program includes classroom instruction\, on snow skills development\, and guided training toward completing the winter sports merit badge. Scouts must remain with their assigned group throughout the day to fulfill all badge components. \nThis program requires advance registration by the listed deadlines\, available on the Ski Brule events page. Discipline selection (skiing or snowboarding) must be chosen at registration and cannot be changed the day of the event.
URL:https://ironcountylodging.com/event/scouts-bsa-winter-merit-badge-day/
LOCATION:Ski Brule\, 397 Brule Mountain Rd\, Iron River\, MI\, 49935\, United States
CATEGORIES:outdoor recreation,Winter
END:VEVENT
END:VCALENDAR