BEGIN:VCALENDAR
VERSION:2.0
PRODID:-//Iron County Lodging Association - ECPv6.15.18//NONSGML v1.0//EN
CALSCALE:GREGORIAN
METHOD:PUBLISH
X-WR-CALNAME:Iron County Lodging Association
X-ORIGINAL-URL:https://ironcountylodging.com
X-WR-CALDESC:Events for Iron County Lodging Association
REFRESH-INTERVAL;VALUE=DURATION:PT1H
X-Robots-Tag:noindex
X-PUBLISHED-TTL:PT1H
BEGIN:VTIMEZONE
TZID:America/Chicago
BEGIN:DAYLIGHT
TZOFFSETFROM:-0600
TZOFFSETTO:-0500
TZNAME:CDT
DTSTART:20240310T080000
END:DAYLIGHT
BEGIN:STANDARD
TZOFFSETFROM:-0500
TZOFFSETTO:-0600
TZNAME:CST
DTSTART:20241103T070000
END:STANDARD
BEGIN:DAYLIGHT
TZOFFSETFROM:-0600
TZOFFSETTO:-0500
TZNAME:CDT
DTSTART:20250309T080000
END:DAYLIGHT
BEGIN:STANDARD
TZOFFSETFROM:-0500
TZOFFSETTO:-0600
TZNAME:CST
DTSTART:20251102T070000
END:STANDARD
BEGIN:DAYLIGHT
TZOFFSETFROM:-0600
TZOFFSETTO:-0500
TZNAME:CDT
DTSTART:20260308T080000
END:DAYLIGHT
BEGIN:STANDARD
TZOFFSETFROM:-0500
TZOFFSETTO:-0600
TZNAME:CST
DTSTART:20261101T070000
END:STANDARD
END:VTIMEZONE
BEGIN:VEVENT
DTSTART;TZID=America/Chicago:20251113T170000
DTEND;TZID=America/Chicago:20251113T213000
DTSTAMP:20260420T080906
CREATED:20251027T190510Z
LAST-MODIFIED:20251217T171259Z
UID:9621-1763053200-1763069400@ironcountylodging.com
SUMMARY:Girls Night Out Iron Mountain - Shop\, Dine & Celebrate
DESCRIPTION:Girls Night Out Iron Mountain returns this November for an evening of shopping\, dining\, and celebration in downtown Iron Mountain. The event invites women and non-hunters to gather\, explore\, and enjoy the best of local life. Starting at 5:00 PM\, downtown shops and restaurants welcome guests with special deals\, fun menus\, and friendly service. \nBecause the night encourages community spirit\, you can stroll from store to store\, find unique gifts\, and share dinner or drinks with friends. It’s the perfect reason to step out while hunters are away and support Iron Mountain’s small businesses. The streets come alive with laughter\, lights\, and local energy. \nAfter shopping\, join the Girls Night Out After Party at Sol Blu Lounge & Tap Room from 7:00 to 9:30 PM. Enjoy live music by Melanie Rose and relax with your favorite cocktail. The Downtown Development Authority will also give away 100 Girls Night Out canvas bags to early arrivals. The celebration continues until 9:30 PM\, wrapping up a night full of fun and connection. \nGirls Night Out strengthens the downtown community and highlights why Iron Mountain remains a favorite destination for gatherings and events. Because the experience combines shopping\, live entertainment\, and friendship\, it’s one of the most anticipated local traditions each year. \nMake it a weekend getaway! Explore comfortable lodging options and plan your stay in Iron County through our local lodging partners Iron County Lodging Association for more nearby accommodations.
URL:https://ironcountylodging.com/event/girls-night-out-iron-mountain/
LOCATION:City of Iron Mountain\, 501 South Stephenson Ave.\, Iron Mountain\, MI\, 49801\, United States
CATEGORIES:Community Event,Entertainment,shopping
ORGANIZER;CN="First National Bank":MAILTO:https://downtownironmountain.com/girls-night-out/
END:VEVENT
BEGIN:VEVENT
DTSTART;TZID=America/Chicago:20251114T093000
DTEND;TZID=America/Chicago:20251116T170000
DTSTAMP:20260420T080906
CREATED:20251111T050302Z
LAST-MODIFIED:20251111T050302Z
UID:9890-1763112600-1763312400@ironcountylodging.com
SUMMARY:Winks Woods Christmas Open House
DESCRIPTION:Kick off your holiday season at the Winks Woods Christmas Open House\, happening November 14–16\, 2025\, from 9:30 AM to 5:00 PM daily at Winks Woods Gift Shop\, located at 1225 US-2\, Crystal Falls\, MI (near Alpha\, Michigan). \nThis three-day holiday shopping event is a favorite local tradition\, featuring:\n🎄 Hundreds of new Christmas items added just for the weekend\n🎁 Bonus cash rewards for shoppers\n🎟 Door prize registrations for every visitor\n☕ Aspen mulling spice and dip samples to enjoy while you browse \nFind one of a kind gifts\, home décor\, and festive holiday accents while supporting a beloved Upper Peninsula small business. Bring your friends and family and make a day of it! \nVisit the Winks Woods Facebook Page for event details and updates.\nPlan your festive weekend getaway at Iron County Hotels & Lodging. \nDates: November 14–16\, 2025\nHours: 9:30 AM – 5:00 PM each day\nLocation: Winks Woods Gift Shop\, 1225 US-2\, Crystal Falls\, MI 49920 (Alpha area)\nActivities: Holiday Shopping\, Prizes\, Seasonal Samples
URL:https://ironcountylodging.com/event/winks-woods-christmas-open-house/
LOCATION:Winks Woods Gift Shop\, 1225 US-2\, Crystal Falls\, MI\, 49920\, United States
CATEGORIES:Holiday Event,shopping,Winter
END:VEVENT
END:VCALENDAR