BEGIN:VCALENDAR
VERSION:2.0
PRODID:-//Iron County Lodging Association - ECPv6.15.18//NONSGML v1.0//EN
CALSCALE:GREGORIAN
METHOD:PUBLISH
X-WR-CALNAME:Iron County Lodging Association
X-ORIGINAL-URL:https://ironcountylodging.com
X-WR-CALDESC:Events for Iron County Lodging Association
REFRESH-INTERVAL;VALUE=DURATION:PT1H
X-Robots-Tag:noindex
X-PUBLISHED-TTL:PT1H
BEGIN:VTIMEZONE
TZID:America/Chicago
BEGIN:DAYLIGHT
TZOFFSETFROM:-0600
TZOFFSETTO:-0500
TZNAME:CDT
DTSTART:20250309T080000
END:DAYLIGHT
BEGIN:STANDARD
TZOFFSETFROM:-0500
TZOFFSETTO:-0600
TZNAME:CST
DTSTART:20251102T070000
END:STANDARD
BEGIN:DAYLIGHT
TZOFFSETFROM:-0600
TZOFFSETTO:-0500
TZNAME:CDT
DTSTART:20260308T080000
END:DAYLIGHT
BEGIN:STANDARD
TZOFFSETFROM:-0500
TZOFFSETTO:-0600
TZNAME:CST
DTSTART:20261101T070000
END:STANDARD
BEGIN:DAYLIGHT
TZOFFSETFROM:-0600
TZOFFSETTO:-0500
TZNAME:CDT
DTSTART:20270314T080000
END:DAYLIGHT
BEGIN:STANDARD
TZOFFSETFROM:-0500
TZOFFSETTO:-0600
TZNAME:CST
DTSTART:20271107T070000
END:STANDARD
END:VTIMEZONE
BEGIN:VEVENT
DTSTART;VALUE=DATE:20260314
DTEND;VALUE=DATE:20260315
DTSTAMP:20260423T120732
CREATED:20260123T001154Z
LAST-MODIFIED:20260313T162351Z
UID:10721-1773446400-1773532799@ironcountylodging.com
SUMMARY:Freeze Your Bass Off at Runkle Lake
DESCRIPTION:Hosted by Crystal Falls Lions Club \n📅 Date: Saturday\, March 14\, 2026\n⏰ Time: Kick Off 11am\n📍 Location: Runkle Lake Complex\, Crystal Falls\, MI\n👨‍👩‍👧‍👦 Family-Friendly Event \nBundle up and head to Crystal Falls for the first-ever Freeze Your Bass Off event at the Runkle Lake Complex! Hosted by the Crystal Falls Lions Club\, this winter celebration is packed with fun for all ages. \nEvent highlights include: \n🔥 Bonfires \n🎶 Music \n🥎 Co-ed softball \n🐖 Pig roast and additional food options \n🍔 Food and drinks available \n🎯 Kids games and activities \nThis free community event is expected to draw a great crowd\, so mark your calendar and plan to enjoy a full day of winter fun in Iron County. Additional details and a full schedule will be released closer to the event date. \n📣 Tip: Make a weekend of it—book local lodging and explore Crystal Falls while you’re here!
URL:https://ironcountylodging.com/event/freeze-your-bass-off-at-runkle-lake/
LOCATION:Runkle Lake Recreation Area\, Runkle Lake Rd\, Crystal Falls\, MI\, 49920\, United States
CATEGORIES:Community Event,Spring
END:VEVENT
BEGIN:VEVENT
DTSTART;TZID=America/Chicago:20260318T110000
DTEND;TZID=America/Chicago:20260318T150000
DTSTAMP:20260423T120732
CREATED:20260303T165327Z
LAST-MODIFIED:20260303T165327Z
UID:10873-1773831600-1773846000@ironcountylodging.com
SUMMARY:27th Annual Parenting Fair | Iron River\, MI
DESCRIPTION:The 27th Annual Parenting Fair at the West Iron District Library is a free community event designed to connect families with valuable local resources. This long running event brings together organizations\, programs\, and activities that support children and parents across Iron County. \n📚 What to Expect:\n More than twenty local vendors and organizations share information on health services\, literacy programs\, youth opportunities\, and summer camps. Families can explore community resources all in one convenient location. \n⚽ Youth Activities:\n Parents can register children for youth baseball\, soccer\, and other summer sports programs. The annual Lego design contest invites young creators to submit original builds\, with community voting taking place during the fair. \n👨‍👩‍👧 Who It’s For: \nIdeal for parents\, caregivers\, and families looking for programs\, activities\, and services that support children throughout the year. \n💛 Why It Matters: \nThe Parenting Fair strengthens community connections by bringing families and local organizations together in one welcoming space. \n\n 
URL:https://ironcountylodging.com/event/27th-annual-parenting-fair-iron-river-mi/
LOCATION:West Iron District Library\, 116 W Genesee St\, Iron River\, MI\, 49935\, United States
CATEGORIES:Community Event,Family Event,Spring
END:VEVENT
BEGIN:VEVENT
DTSTART;VALUE=DATE:20260328
DTEND;VALUE=DATE:20260329
DTSTAMP:20260423T120732
CREATED:20260106T163246Z
LAST-MODIFIED:20260106T163246Z
UID:10663-1774656000-1774742399@ironcountylodging.com
SUMMARY:Spring Craft Vendor Fair - Windsor Center
DESCRIPTION:The Windsor Center in Iron River will host a Spring Craft Vendor Fair on March 28\, 2026. This event will feature local vendors and handmade goods\, offering visitors a chance to shop seasonal crafts and support small businesses. Additional event details will be shared as they become available.
URL:https://ironcountylodging.com/event/spring-craft-vendor-fair-windsor-center/
LOCATION:The Windsor Center\, 612 W Adams St\, Iron River\, MI\, 49935\, United States
CATEGORIES:Community Event,Spring
END:VEVENT
BEGIN:VEVENT
DTSTART;VALUE=DATE:20260328
DTEND;VALUE=DATE:20260329
DTSTAMP:20260423T120732
CREATED:20260106T163738Z
LAST-MODIFIED:20260106T163738Z
UID:10665-1774656000-1774742399@ironcountylodging.com
SUMMARY:Easter Egg Hunt at Runkle Lake Park
DESCRIPTION:An Easter Egg Hunt will take place at Runkle Lake Park on March 28\, 2026. Families and community members are invited to enjoy a seasonal outdoor activity celebrating spring in the Crystal Lake area. Additional event details will be shared as they become available.
URL:https://ironcountylodging.com/event/easter-egg-hunt-at-runkle-lake-park/
LOCATION:Iron County Lodging Association\, 1700 County Rd. 424\, Gaastra\, MI\, 49927\, United States
CATEGORIES:Community Event,Spring
END:VEVENT
END:VCALENDAR