BEGIN:VCALENDAR
VERSION:2.0
PRODID:-//Iron County Lodging Association - ECPv6.15.18//NONSGML v1.0//EN
CALSCALE:GREGORIAN
METHOD:PUBLISH
X-WR-CALNAME:Iron County Lodging Association
X-ORIGINAL-URL:https://ironcountylodging.com
X-WR-CALDESC:Events for Iron County Lodging Association
REFRESH-INTERVAL;VALUE=DURATION:PT1H
X-Robots-Tag:noindex
X-PUBLISHED-TTL:PT1H
BEGIN:VTIMEZONE
TZID:America/Chicago
BEGIN:DAYLIGHT
TZOFFSETFROM:-0600
TZOFFSETTO:-0500
TZNAME:CDT
DTSTART:20250309T080000
END:DAYLIGHT
BEGIN:STANDARD
TZOFFSETFROM:-0500
TZOFFSETTO:-0600
TZNAME:CST
DTSTART:20251102T070000
END:STANDARD
BEGIN:DAYLIGHT
TZOFFSETFROM:-0600
TZOFFSETTO:-0500
TZNAME:CDT
DTSTART:20260308T080000
END:DAYLIGHT
BEGIN:STANDARD
TZOFFSETFROM:-0500
TZOFFSETTO:-0600
TZNAME:CST
DTSTART:20261101T070000
END:STANDARD
BEGIN:DAYLIGHT
TZOFFSETFROM:-0600
TZOFFSETTO:-0500
TZNAME:CDT
DTSTART:20270314T080000
END:DAYLIGHT
BEGIN:STANDARD
TZOFFSETFROM:-0500
TZOFFSETTO:-0600
TZNAME:CST
DTSTART:20271107T070000
END:STANDARD
END:VTIMEZONE
BEGIN:VEVENT
DTSTART;TZID=America/Chicago:20260509T103000
DTEND;TZID=America/Chicago:20260509T160000
DTSTAMP:20260423T120544
CREATED:20260411T184102Z
LAST-MODIFIED:20260411T184102Z
UID:11018-1778322600-1778342400@ironcountylodging.com
SUMMARY:Young’s 3 Person Scramble
DESCRIPTION:Join Young’s 3 Person Scramble for a fun and competitive day on the course. Gather your team and enjoy a relaxed golf event perfect for players of all skill levels\, with a full day of play\, camaraderie\, and outdoor enjoyment in Iron CountyJoin Young’s 3 Person Scramble for a fun and competitive day on the course. Gather your team and enjoy a relaxed golf event perfect for players of all skill levels\, with a full day of play\, camaraderie\, and outdoor enjoyment in Iron County.
URL:https://ironcountylodging.com/event/youngs-3-person-scramble/
LOCATION:Young’s Golf-Recreation-Dining\, 159 Young's Lane\, Crystal Falls\, MI\, 49920\, United States
CATEGORIES:sport,Spring
END:VEVENT
BEGIN:VEVENT
DTSTART;VALUE=DATE:20260516
DTEND;VALUE=DATE:20260517
DTSTAMP:20260423T120544
CREATED:20260411T191200Z
LAST-MODIFIED:20260411T191200Z
UID:11028-1778889600-1778975999@ironcountylodging.com
SUMMARY:Uren Dirtworks Mud Drags
DESCRIPTION:Visit Uren Dirtworks Mud Drags Facebook page for more details!
URL:https://ironcountylodging.com/event/uren-dirtworks-mud-drags-3/
LOCATION:Iron County Lodging Association\, 1700 County Rd. 424\, Gaastra\, MI\, 49927\, United States
CATEGORIES:Entertainment,Spring
END:VEVENT
BEGIN:VEVENT
DTSTART;VALUE=DATE:20261014
DTEND;VALUE=DATE:20261015
DTSTAMP:20260423T120544
CREATED:20260303T180636Z
LAST-MODIFIED:20260303T180636Z
UID:10889-1791936000-1792022399@ironcountylodging.com
SUMMARY:Aspirus Health Fair | Iron River\, MI
DESCRIPTION:The Aspirus Health Fair in Iron River connects residents with trusted local healthcare providers and wellness resources. Hosted by Aspirus Iron River Hospital and Clinics\, this annual event focuses on community education and preventative care. \n🩺 What to Expect:\n Attendees can explore health screenings\, informational booths\, and community resource tables featuring local health organizations. Past events have included opportunities to learn about preventative care\, wellness services\, and regional healthcare programs. \n📚 Community Wellness:\n Aspirus Iron River also offers ongoing health education initiatives such as the Wisdom and Wellness monthly series\, reinforcing its commitment to year round community health engagement. \n🔔 Details Coming Soon:\n This annual event is scheduled to return. Full programming\, activities\, and participation details will be shared as they are confirmed. \n💚 Why It Matters:\n Events like the Aspirus Health Fair strengthen access to local healthcare information and encourage proactive wellness across Iron County.
URL:https://ironcountylodging.com/event/aspirus-health-fair-iron-river-mi/
LOCATION:MI
CATEGORIES:Family Event,Spring
END:VEVENT
END:VCALENDAR