BEGIN:VCALENDAR
VERSION:2.0
PRODID:-//Iron County Lodging Association - ECPv6.15.18//NONSGML v1.0//EN
CALSCALE:GREGORIAN
METHOD:PUBLISH
X-ORIGINAL-URL:https://ironcountylodging.com
X-WR-CALDESC:Events for Iron County Lodging Association
REFRESH-INTERVAL;VALUE=DURATION:PT1H
X-Robots-Tag:noindex
X-PUBLISHED-TTL:PT1H
BEGIN:VTIMEZONE
TZID:America/Chicago
BEGIN:DAYLIGHT
TZOFFSETFROM:-0600
TZOFFSETTO:-0500
TZNAME:CDT
DTSTART:20240310T080000
END:DAYLIGHT
BEGIN:STANDARD
TZOFFSETFROM:-0500
TZOFFSETTO:-0600
TZNAME:CST
DTSTART:20241103T070000
END:STANDARD
BEGIN:DAYLIGHT
TZOFFSETFROM:-0600
TZOFFSETTO:-0500
TZNAME:CDT
DTSTART:20250309T080000
END:DAYLIGHT
BEGIN:STANDARD
TZOFFSETFROM:-0500
TZOFFSETTO:-0600
TZNAME:CST
DTSTART:20251102T070000
END:STANDARD
BEGIN:DAYLIGHT
TZOFFSETFROM:-0600
TZOFFSETTO:-0500
TZNAME:CDT
DTSTART:20260308T080000
END:DAYLIGHT
BEGIN:STANDARD
TZOFFSETFROM:-0500
TZOFFSETTO:-0600
TZNAME:CST
DTSTART:20261101T070000
END:STANDARD
END:VTIMEZONE
BEGIN:VEVENT
DTSTART;TZID=America/Chicago:20250531T070000
DTEND;TZID=America/Chicago:20250601T170000
DTSTAMP:20260423T051231
CREATED:20250410T151343Z
LAST-MODIFIED:20250410T151343Z
UID:8959-1748674800-1748797200@ironcountylodging.com
SUMMARY:Hungry Cow GP & Harescramble
DESCRIPTION:AMA Sanctioned District 16 GP and Off-road points. \nVisit Valley Raceway’s Facebook page for more details!
URL:https://ironcountylodging.com/event/hungry-cow-gp-harescramble/
LOCATION:Valley Raceway\, 128 Wiggins Rd\, Crystal Falls\, MI\, 49920\, United States
CATEGORIES:Summer
END:VEVENT
END:VCALENDAR