BEGIN:VCALENDAR
VERSION:2.0
PRODID:-//Iron County Lodging Association - ECPv6.15.18//NONSGML v1.0//EN
CALSCALE:GREGORIAN
METHOD:PUBLISH
X-WR-CALNAME:Iron County Lodging Association
X-ORIGINAL-URL:https://ironcountylodging.com
X-WR-CALDESC:Events for Iron County Lodging Association
REFRESH-INTERVAL;VALUE=DURATION:PT1H
X-Robots-Tag:noindex
X-PUBLISHED-TTL:PT1H
BEGIN:VTIMEZONE
TZID:America/Chicago
BEGIN:DAYLIGHT
TZOFFSETFROM:-0600
TZOFFSETTO:-0500
TZNAME:CDT
DTSTART:20240310T080000
END:DAYLIGHT
BEGIN:STANDARD
TZOFFSETFROM:-0500
TZOFFSETTO:-0600
TZNAME:CST
DTSTART:20241103T070000
END:STANDARD
BEGIN:DAYLIGHT
TZOFFSETFROM:-0600
TZOFFSETTO:-0500
TZNAME:CDT
DTSTART:20250309T080000
END:DAYLIGHT
BEGIN:STANDARD
TZOFFSETFROM:-0500
TZOFFSETTO:-0600
TZNAME:CST
DTSTART:20251102T070000
END:STANDARD
BEGIN:DAYLIGHT
TZOFFSETFROM:-0600
TZOFFSETTO:-0500
TZNAME:CDT
DTSTART:20260308T080000
END:DAYLIGHT
BEGIN:STANDARD
TZOFFSETFROM:-0500
TZOFFSETTO:-0600
TZNAME:CST
DTSTART:20261101T070000
END:STANDARD
END:VTIMEZONE
BEGIN:VEVENT
DTSTART;VALUE=DATE:20250704
DTEND;VALUE=DATE:20250705
DTSTAMP:20260423T014357
CREATED:20250226T171948Z
LAST-MODIFIED:20250227T152042Z
UID:8576-1751587200-1751673599@ironcountylodging.com
SUMMARY:Alpha Michigan 4th of July Celebration
DESCRIPTION:Head to Alpha\, Michigan for a celebration filled with excitement for all ages! The day kicks off with a flag-raising ceremony and parade\, followed by fun games and prizes for both kids and adults. Enjoy a variety of entertainment all day! \nSatisfy your cravings with tasty offerings from food trucks\, sip on craft beers from Alpha MI Brewing Co.\, and cap off the night with a spectacular fireworks display! It’s a celebration you won’t want to miss! \nCheck out the Alpha 4th of July facebook page for more details! \n \n 
URL:https://ironcountylodging.com/event/alpha-michigan-4th-of-july-celebration/
LOCATION:Alpha\, MI\, Alpha\, MI\, United States
CATEGORIES:Summer
END:VEVENT
BEGIN:VEVENT
DTSTART;VALUE=DATE:20250704
DTEND;VALUE=DATE:20250705
DTSTAMP:20260423T014357
CREATED:20250226T172120Z
LAST-MODIFIED:20250227T172757Z
UID:8578-1751587200-1751673599@ironcountylodging.com
SUMMARY:West Side Veterans 4th of July Parade & Fireworks
DESCRIPTION:Start your day with an exciting parade in the morning\, then enjoy non-stop fun for the whole family with activities and games for kids of all ages! As the sun sets\, get ready for a spectacular fireworks show at dusk that will light up the night sky! It’s a day filled with excitement\, laughter\, and unforgettable memories! More details to come.
URL:https://ironcountylodging.com/event/west-side-veterans-4th-of-july-parade-fireworks/
LOCATION:Downtown Iron River\, MI\, Genesee St\, Iron River\, MI\, 49935\, United States
CATEGORIES:Summer
END:VEVENT
BEGIN:VEVENT
DTSTART;TZID=America/Chicago:20250704T100000
DTEND;TZID=America/Chicago:20250704T110000
DTSTAMP:20260423T014357
CREATED:20250605T140125Z
LAST-MODIFIED:20250605T140125Z
UID:9301-1751623200-1751626800@ironcountylodging.com
SUMMARY:4th of July Parade - Iron River\, MI
DESCRIPTION:
URL:https://ironcountylodging.com/event/4th-of-july-parade-iron-river-mi/
LOCATION:Downtown Iron River\, MI\, Genesee St\, Iron River\, MI\, 49935\, United States
CATEGORIES:Summer
END:VEVENT
BEGIN:VEVENT
DTSTART;TZID=America/Chicago:20250704T150000
DTEND;TZID=America/Chicago:20250704T173000
DTSTAMP:20260423T014357
CREATED:20250410T154618Z
LAST-MODIFIED:20250410T154618Z
UID:8986-1751641200-1751650200@ironcountylodging.com
SUMMARY:Fire on High @ The 111th Alpha 4th of July Celebration
DESCRIPTION:Fire on High brings you Country and Classic Rock with Powerhouse Vocals and Amazing Harmonies. We are looking forward to celebrating 4th of July with everyone!
URL:https://ironcountylodging.com/event/fire-on-high-the-111th-alpha-4th-of-july-celebration/
LOCATION:Alpha\, MI\, Alpha\, MI\, United States
CATEGORIES:Summer
END:VEVENT
BEGIN:VEVENT
DTSTART;TZID=America/Chicago:20250704T190000
DTEND;TZID=America/Chicago:20250704T220000
DTSTAMP:20260423T014357
CREATED:20250410T154316Z
LAST-MODIFIED:20250410T154316Z
UID:8983-1751655600-1751666400@ironcountylodging.com
SUMMARY:Pentatonic Uncertainty at the Horseshoe Bar
DESCRIPTION:Join Pentatonic Uncertainty for musical entertainment at the Horseshoe Bar. Starting at 7pm until the fireworks start\, then again after the fireworks show. Don’t forget to stop in to the Horseshoe Bar and donate to their fireworks. 
URL:https://ironcountylodging.com/event/pentatonic-uncertainty-at-the-horseshoe-bar/
LOCATION:Horseshoe Bar\, 102 W Pine St\, Amasa\, MI\, 49903\, United States
CATEGORIES:Summer
END:VEVENT
BEGIN:VEVENT
DTSTART;VALUE=DATE:20250706
DTEND;VALUE=DATE:20250712
DTSTAMP:20260423T014357
CREATED:20250507T153005Z
LAST-MODIFIED:20250507T153005Z
UID:9167-1751760000-1752278399@ironcountylodging.com
SUMMARY:Junior High Venturers - Fortune Lake Lutheran Camp
DESCRIPTION:Fortune Lake provides exactly what Junior High campers need: adventure\, challenge\, acceptance\, and time to grapple with deep questions of faith in the midst of having fun! The Venturer program is for campers who have completed grades 7-8 and runs July 6-11. \nVenturers lodge in our duplex cabins that contain in-cabin bathrooms and a comfortable space to gather as a group. Campers especially enjoy time with old and new friends and cabin leaders who love to hang out with them! They live it up with a whole week of campfires (which they’ll help to lead)\, games\, and beach fun. A tent or hammock camping adventure solidifies the bonds within the cabin group and provides all sorts of great stories to bring home. \nTo learn more and to register visit https://fortunelake.org/event/venturers/ \nFor families with children of different ages\, check out Villager (completed grades 3-4) or Vagabonds (completed grades 5-6) which run simultaneously.
URL:https://ironcountylodging.com/event/junior-high-venturers-fortune-lake-lutheran-camp/
LOCATION:Fortune Lake Lutheran Camp\, 138 Fortune Lake Camp Rd\, Crystal Falls\, MI\, 49920\, United States
CATEGORIES:Summer
END:VEVENT
BEGIN:VEVENT
DTSTART;VALUE=DATE:20250711
DTEND;VALUE=DATE:20250712
DTSTAMP:20260423T014357
CREATED:20250226T172232Z
LAST-MODIFIED:20250227T173152Z
UID:8580-1752192000-1752278399@ironcountylodging.com
SUMMARY:U.P. Rodeo Arena & Market Days Vendors
DESCRIPTION:Come check out the 2025 Rodeo Arena and Market Days Vendors! Discover a variety of fun\, unique vendors and support local businesses. The Downtown Market Days will be on Friday ONLY\, while the Rodeo Arena Vendors at the Iron County Fairgrounds will be open Friday and Saturday. Don’t miss out on this perfect opportunity to support local! \n🎪 Now accepting 2025 Vendors! Click here to fill out an application! \n  \nVisit Upper Peninsula Championship Rodeo – PRCA Rodeo‘s Facebook page for more details! 
URL:https://ironcountylodging.com/event/u-p-rodeo-market-day/
LOCATION:Downtown Iron River\, MI\, Genesee St\, Iron River\, MI\, 49935\, United States
CATEGORIES:Summer
END:VEVENT
BEGIN:VEVENT
DTSTART;VALUE=DATE:20250711
DTEND;VALUE=DATE:20250713
DTSTAMP:20260423T014357
CREATED:20250226T172328Z
LAST-MODIFIED:20250507T144544Z
UID:8582-1752192000-1752364799@ironcountylodging.com
SUMMARY:57th Annual U.P. Championship Rodeo - Official Sponsors!
DESCRIPTION:Get ready for the U.P. Championship Rodeo – a two-day\, action-packed event where the excitement never stops\, rain or shine! Enjoy three thrilling PRCA performances featuring heart-pounding events like bronc riding\, barrel racing\, bull riding\, team roping\, steer wrestling\, breakaway roping\, and tie-down roping. It’s a weekend full of unforgettable rodeo action! \n🎟️ Click here to get your 2025 U.P. Rodeo tickets!  \n  \nVisit Upper Peninsula Championship Rodeo – PRCA Rodeo‘s Facebook page for more details!  \n    \n  \n 
URL:https://ironcountylodging.com/event/u-p-rodeo-iron-county-fairgrounds/
LOCATION:Iron County Fairgrounds\, 720 W Franklin St\, Iron River\, MI\, 49935\, United States
CATEGORIES:Summer
END:VEVENT
BEGIN:VEVENT
DTSTART;VALUE=DATE:20250711
DTEND;VALUE=DATE:20250714
DTSTAMP:20260423T014357
CREATED:20250226T172424Z
LAST-MODIFIED:20250507T144429Z
UID:8584-1752192000-1752451199@ironcountylodging.com
SUMMARY:60th Annual Bass Festival - Official Sponsors!
DESCRIPTION:Get ready for the 60th Annual Bass Festival – a weekend full of excitement! \nCompete in the thrilling Fishing Contest\, cheer on the Finn VS Polak and Wop VS Swede Softball games\, and enjoy the lively parade down Main Street. Test your skills in Canoe Races or Volleyball Tournaments\, groove to live music\, and win big in the raffles! It’s a weekend of fun\, sports\, and celebration – don’t miss out! \nVisit Crystal Falls Lions Club‘s Facebook page for more details! \n 
URL:https://ironcountylodging.com/event/bass-festival/
LOCATION:Runkle Lake Recreation Area\, Runkle Lake Rd\, Crystal Falls\, MI\, 49920\, United States
CATEGORIES:Summer
END:VEVENT
BEGIN:VEVENT
DTSTART;TZID=America/Chicago:20250711T103000
DTEND;TZID=America/Chicago:20250711T143000
DTSTAMP:20260423T014357
CREATED:20250605T135409Z
LAST-MODIFIED:20250605T135409Z
UID:9287-1752229800-1752244200@ironcountylodging.com
SUMMARY:ICMCF Rodeo Round Up Picnic
DESCRIPTION:
URL:https://ironcountylodging.com/event/icmcf-rodeo-round-up-picnic/
LOCATION:Iron County Medical Care Facility\, 1523 US-2\, Crystal Falls\, MI\, 49920\, United States
CATEGORIES:Summer
END:VEVENT
BEGIN:VEVENT
DTSTART;TZID=America/Chicago:20250712T110000
DTEND;TZID=America/Chicago:20250712T150000
DTSTAMP:20260423T014357
CREATED:20250605T135654Z
LAST-MODIFIED:20250605T135654Z
UID:9277-1752318000-1752332400@ironcountylodging.com
SUMMARY:North Country Cruisers Car Show
DESCRIPTION:
URL:https://ironcountylodging.com/event/north-country-cruisers-car-show/
LOCATION:Runkle Lake Recreation Area\, Runkle Lake Rd\, Crystal Falls\, MI\, 49920\, United States
CATEGORIES:Summer
END:VEVENT
BEGIN:VEVENT
DTSTART;VALUE=DATE:20250713
DTEND;VALUE=DATE:20250714
DTSTAMP:20260423T014357
CREATED:20250226T172501Z
LAST-MODIFIED:20250227T174143Z
UID:8586-1752364800-1752451199@ironcountylodging.com
SUMMARY:Run Your Bass Off
DESCRIPTION:Get ready to Run Your Bass Off at the 60th Annual Bass Festival! Whether you’re a seasoned runner or just looking for some fun\, we’ve got a race for you: \n\n10K for the serious competitors \nThe Half Bass for a fun challenge \nA relaxed 2-mile walk for all fitness levels \nKids Run – because the little ones deserve to join the fun too! \n\nSo lace up your shoes\, and let’s race to the finish line!  \n  \nVisit Iron Endurance‘s Facebook page for more details!  \n \n 
URL:https://ironcountylodging.com/event/run-your-bass-off/
LOCATION:Runkle Lake Recreation Area\, Runkle Lake Rd\, Crystal Falls\, MI\, 49920\, United States
CATEGORIES:Summer
END:VEVENT
BEGIN:VEVENT
DTSTART;VALUE=DATE:20250720
DTEND;VALUE=DATE:20250726
DTSTAMP:20260423T014357
CREATED:20250507T152738Z
LAST-MODIFIED:20250507T152738Z
UID:9164-1752969600-1753487999@ironcountylodging.com
SUMMARY:Art Camp - Fortune Lake Lutheran Camp
DESCRIPTION:Art Camp has been going strong at Fortune Lake for many years\, and we’re excited to bring it back in 2025! This program is designed for campers who have completed grades 3-9 and runs July 20-25. \nArt Camp is a unique blend of art and traditional camp activities. Campers will still enjoy many of the fun activities camp has to offer like swimming\, chapel\, Bible study\, games\, canteen and campfires. They’ll also spend a large chunk of their day focusing on art! \nVolunteer art instructors and summer staff oversee art projects while campers use different media to create art and express themselves! Projects may include clay\, drawing\, painting\, or textiles. Items created by campers will be displayed for closing chapel and can go home with the campers to be treasured by family and friends. \nTo learn more and to register\, visit https://fortunelake.org/event/art-camp/ \nAdditional programs that run simultaneous with Art Camp include LEGO Camp (gr. 3-()\, Jr. High Night Owls (gr. 6-8\, only 3 male spots left)\, and Dungeons and Dragons Camp (gr. 6-9). To learn more about any of these programs\, visit https://fortunelake.org/summer-camp/specialty-camps/ \, call 906-214-2267\, or email officemanager@fortunelake.org
URL:https://ironcountylodging.com/event/art-camp-fortune-lake-lutheran-camp/
LOCATION:Fortune Lake Lutheran Camp\, 138 Fortune Lake Camp Rd\, Crystal Falls\, MI\, 49920\, United States
CATEGORIES:Summer
END:VEVENT
BEGIN:VEVENT
DTSTART;VALUE=DATE:20250721
DTEND;VALUE=DATE:20250725
DTSTAMP:20260423T014357
CREATED:20250507T152437Z
LAST-MODIFIED:20250507T152437Z
UID:9159-1753056000-1753401599@ironcountylodging.com
SUMMARY:Onsite Youth Day Camp - Fortune Lake Lutheran Camp
DESCRIPTION:All local Iron County and surrounding youth who have completed grades K-5 are invited to Onsite Day Camp at Fortune Lake! This program runs M-Th from 9 am – 5 pm and is available TWO weeks this summer: July 21-24 or July 28-31. Youth can sign up for one or both weeks. \nFour action-packed days include chapel\, lunch\, games\, swimming\, Bible study\, picnics\, crafts\, and more! Campers stay with the same group all week\, led by experienced staff members who know how to engage them in fun opportunities meant to grow their faith and sense of wonder. Their days will be full\, spent almost exclusively outside\, playing active community-building games\, splashing in the shallow end at the beach (under the supervision of certified lifeguards)\, making themed projects at Arts-n-Crafts\, and building friendships with other local kids. They’ll come home exhausted\, but wake up wanting to return! \nTo learn more and to register\, visit https://fortunelake.org/event/on-site-day-camp/2025-07-21/ call 906-214-2267\, or email officemanager@fortunelake.org
URL:https://ironcountylodging.com/event/onsite-youth-day-camp-fortune-lake-lutheran-camp/
LOCATION:Fortune Lake Lutheran Camp\, 138 Fortune Lake Camp Rd\, Crystal Falls\, MI\, 49920\, United States
CATEGORIES:Summer
END:VEVENT
BEGIN:VEVENT
DTSTART;VALUE=DATE:20250728
DTEND;VALUE=DATE:20250801
DTSTAMP:20260423T014357
CREATED:20250507T152548Z
LAST-MODIFIED:20250507T152548Z
UID:9162-1753660800-1754006399@ironcountylodging.com
SUMMARY:Onsite Youth Day Camp - Fortune Lake Lutheran Camp
DESCRIPTION:All local Iron County and surrounding youth who have completed grades K-5 are invited to Onsite Day Camp at Fortune Lake! This program runs M-Th from 9 am – 5 pm and is available TWO weeks this summer: July 21-24 or July 28-31. Youth can sign up for one or both weeks. \nFour action-packed days include chapel\, lunch\, games\, swimming\, Bible study\, picnics\, crafts\, and more! Campers stay with the same group all week\, led by experienced staff members who know how to engage them in fun opportunities meant to grow their faith and sense of wonder. Their days will be full\, spent almost exclusively outside\, playing active community-building games\, splashing in the shallow end at the beach (under the supervision of certified lifeguards)\, making themed projects at Arts-n-Crafts\, and building friendships with other local kids. They’ll come home exhausted\, but wake up wanting to return! \nTo learn more and to register\, visit https://fortunelake.org/event/on-site-day-camp/2025-07-21/ call 906-214-2267\, or email officemanager@fortunelake.org
URL:https://ironcountylodging.com/event/onsite-youth-day-camp-fortune-lake-lutheran-camp-2/
LOCATION:Fortune Lake Lutheran Camp\, 138 Fortune Lake Camp Rd\, Crystal Falls\, MI\, 49920\, United States
CATEGORIES:Summer
END:VEVENT
END:VCALENDAR