BEGIN:VCALENDAR
VERSION:2.0
PRODID:-//Iron County Lodging Association - ECPv6.15.18//NONSGML v1.0//EN
CALSCALE:GREGORIAN
METHOD:PUBLISH
X-ORIGINAL-URL:https://ironcountylodging.com
X-WR-CALDESC:Events for Iron County Lodging Association
REFRESH-INTERVAL;VALUE=DURATION:PT1H
X-Robots-Tag:noindex
X-PUBLISHED-TTL:PT1H
BEGIN:VTIMEZONE
TZID:America/Chicago
BEGIN:DAYLIGHT
TZOFFSETFROM:-0600
TZOFFSETTO:-0500
TZNAME:CDT
DTSTART:20240310T080000
END:DAYLIGHT
BEGIN:STANDARD
TZOFFSETFROM:-0500
TZOFFSETTO:-0600
TZNAME:CST
DTSTART:20241103T070000
END:STANDARD
BEGIN:DAYLIGHT
TZOFFSETFROM:-0600
TZOFFSETTO:-0500
TZNAME:CDT
DTSTART:20250309T080000
END:DAYLIGHT
BEGIN:STANDARD
TZOFFSETFROM:-0500
TZOFFSETTO:-0600
TZNAME:CST
DTSTART:20251102T070000
END:STANDARD
BEGIN:DAYLIGHT
TZOFFSETFROM:-0600
TZOFFSETTO:-0500
TZNAME:CDT
DTSTART:20260308T080000
END:DAYLIGHT
BEGIN:STANDARD
TZOFFSETFROM:-0500
TZOFFSETTO:-0600
TZNAME:CST
DTSTART:20261101T070000
END:STANDARD
END:VTIMEZONE
BEGIN:VEVENT
DTSTART;VALUE=DATE:20250801
DTEND;VALUE=DATE:20250803
DTSTAMP:20260423T001123
CREATED:20250226T172556Z
LAST-MODIFIED:20250227T174231Z
UID:8590-1754006400-1754179199@ironcountylodging.com
SUMMARY:Humongous Fungus Fest - Official Sponsors!
DESCRIPTION:Get ready for the Humungous Fungus Fest – a weekend full of fun and excitement! Explore city-wide rummage sales both days – just follow the signs to discover hidden treasures. Enjoy a lively parade\, go on a mushroom forage\, and visit the all-day vendor village behind the Crystal Theater and Harbor House. There will be plenty of activities at the Harbor House and much more! It’s a weekend of adventure\, shopping\, and community you won’t want to miss! \nVisit Humungous Fungus Fest’s Facebook page for more details!  \n  \n  \n 
URL:https://ironcountylodging.com/event/humongous-fungus-fest/
LOCATION:Downtown Crystal Falls\, MI\, 401 Superior Ave\, Crystal Falls\, MI\, 49920\, United States
CATEGORIES:Summer
END:VEVENT
BEGIN:VEVENT
DTSTART;TZID=America/Chicago:20250805T170000
DTEND;TZID=America/Chicago:20250805T190000
DTSTAMP:20260423T001123
CREATED:20250226T172704Z
LAST-MODIFIED:20250302T002117Z
UID:8592-1754413200-1754420400@ironcountylodging.com
SUMMARY:Classic Car Cruise Night - August 5th
DESCRIPTION:Classic Car Cruise Nights – bring your own classic car or hot rod and cruise in with fellow enthusiasts! Check out a stunning display of other classic cars\, stroll around\, and enjoy the vibrant atmosphere. It’s a perfect night of fun and camaraderie for all car lovers! \n  \nVisit Classic Farm Machinery Club of Iron County’s Facebook page for more details!
URL:https://ironcountylodging.com/event/classic-car-cruise-night-august-5th/
LOCATION:Downtown Iron River\, MI\, Genesee St\, Iron River\, MI\, 49935\, United States
CATEGORIES:Summer
END:VEVENT
BEGIN:VEVENT
DTSTART;VALUE=DATE:20250806
DTEND;VALUE=DATE:20250811
DTSTAMP:20260423T001123
CREATED:20250226T172955Z
LAST-MODIFIED:20250227T164951Z
UID:8594-1754438400-1754870399@ironcountylodging.com
SUMMARY:Iron County Michigan Fair
DESCRIPTION:
URL:https://ironcountylodging.com/event/iron-county-fair/
LOCATION:Iron County Fairgrounds\, 720 W Franklin St\, Iron River\, MI\, 49935\, United States
CATEGORIES:Summer
END:VEVENT
BEGIN:VEVENT
DTSTART;TZID=America/Chicago:20250806T083000
DTEND;TZID=America/Chicago:20250806T150000
DTSTAMP:20260423T001123
CREATED:20250326T130904Z
LAST-MODIFIED:20250326T130904Z
UID:8912-1754469000-1754492400@ironcountylodging.com
SUMMARY:3 Woman Scramble - Young’s Golf Course
DESCRIPTION:Visit Young‘s Golf-Recreation-Dining’s website for more details!
URL:https://ironcountylodging.com/event/3-woman-scramble-youngs-golf-course/
LOCATION:Young’s Golf-Recreation-Dining\, 159 Young's Lane\, Crystal Falls\, MI\, 49920\, United States
CATEGORIES:Summer
END:VEVENT
BEGIN:VEVENT
DTSTART;TZID=America/Chicago:20250812T170000
DTEND;TZID=America/Chicago:20250812T190000
DTSTAMP:20260423T001123
CREATED:20250226T172746Z
LAST-MODIFIED:20250302T002159Z
UID:8711-1755018000-1755025200@ironcountylodging.com
SUMMARY:Classic Car Cruise Night - August 12th
DESCRIPTION:Classic Car Cruise Nights – bring your own classic car or hot rod and cruise in with fellow enthusiasts! Check out a stunning display of other classic cars\, stroll around\, and enjoy the vibrant atmosphere. It’s a perfect night of fun and camaraderie for all car lovers! \n  \nVisit Classic Farm Machinery Club of Iron County’s Facebook page for more details!
URL:https://ironcountylodging.com/event/classic-car-cruise-night-august-12th/
LOCATION:Downtown Iron River\, MI\, Genesee St\, Iron River\, MI\, 49935\, United States
CATEGORIES:Summer
END:VEVENT
BEGIN:VEVENT
DTSTART;VALUE=DATE:20250816
DTEND;VALUE=DATE:20250818
DTSTAMP:20260423T001123
CREATED:20250226T173041Z
LAST-MODIFIED:20250227T165445Z
UID:8596-1755302400-1755475199@ironcountylodging.com
SUMMARY:Michigan FREE ATV/ORV Weekend
DESCRIPTION:Don’t miss the Free ORV/ATV Weekend! This weekend only\, license fees are waived for both residents and non-residents. It’s the perfect opportunity to hit the trails and enjoy some off-road fun\, free of charge! \n 
URL:https://ironcountylodging.com/event/michigan-free-atv-orv-weekend/
LOCATION:MI
CATEGORIES:Summer
END:VEVENT
BEGIN:VEVENT
DTSTART;TZID=America/Chicago:20250819T170000
DTEND;TZID=America/Chicago:20250819T190000
DTSTAMP:20260423T001123
CREATED:20250226T172830Z
LAST-MODIFIED:20250302T002241Z
UID:8713-1755622800-1755630000@ironcountylodging.com
SUMMARY:Classic Car Cruise Night - August 19th
DESCRIPTION:Classic Car Cruise Nights – bring your own classic car or hot rod and cruise in with fellow enthusiasts! Check out a stunning display of other classic cars\, stroll around\, and enjoy the vibrant atmosphere. It’s a perfect night of fun and camaraderie for all car lovers! \n  \nVisit Classic Farm Machinery Club of Iron County’s Facebook page for more details!
URL:https://ironcountylodging.com/event/classic-car-cruise-night-august-19th/
LOCATION:Downtown Iron River\, MI\, Genesee St\, Iron River\, MI\, 49935\, United States
CATEGORIES:Summer
END:VEVENT
BEGIN:VEVENT
DTSTART;TZID=America/Chicago:20250823T070000
DTEND;TZID=America/Chicago:20250824T170000
DTSTAMP:20260423T001123
CREATED:20250410T151202Z
LAST-MODIFIED:20250410T151202Z
UID:8956-1755932400-1756054800@ironcountylodging.com
SUMMARY:U.P. 2 Stroke and AMA U.P. State Championship
DESCRIPTION:AMA Sanctioned District 16 and Superior MX Series points both days. \nSaturday August 23rd will be the U.P. 2 Stroke championship. All the regular District 16 and Superior MX Series classes and additional 2 stroke classes with custom awards. \nSunday is an AMA Sanctioned State Championship. Number one plates will be awarded in all of the regular District 16 and Superior Series classes. \nVisit Valley Raceway’s Facebook page for more details!
URL:https://ironcountylodging.com/event/u-p-2-stroke-and-ama-u-p-state-championship/
LOCATION:Valley Raceway\, 128 Wiggins Rd\, Crystal Falls\, MI\, 49920\, United States
CATEGORIES:Summer
END:VEVENT
BEGIN:VEVENT
DTSTART;TZID=America/Chicago:20250824T083000
DTEND;TZID=America/Chicago:20250824T170000
DTSTAMP:20260423T001123
CREATED:20250326T131137Z
LAST-MODIFIED:20250326T131137Z
UID:8915-1756024200-1756054800@ironcountylodging.com
SUMMARY:4 Person Big Cup Scramble - Young’s Golf Course
DESCRIPTION:Visit Young’s Golf-Recreation-Dining’s website for more details!
URL:https://ironcountylodging.com/event/4-person-big-cup-scramble-youngs-golf-course-2/
LOCATION:Young’s Golf-Recreation-Dining\, 159 Young's Lane\, Crystal Falls\, MI\, 49920\, United States
CATEGORIES:Summer
END:VEVENT
BEGIN:VEVENT
DTSTART;TZID=America/Chicago:20250826T170000
DTEND;TZID=America/Chicago:20250826T190000
DTSTAMP:20260423T001123
CREATED:20250226T172909Z
LAST-MODIFIED:20250302T002410Z
UID:8715-1756227600-1756234800@ironcountylodging.com
SUMMARY:Classic Car Cruise Night - August 26th
DESCRIPTION:Classic Car Cruise Nights – bring your own classic car or hot rod and cruise in with fellow enthusiasts! Check out a stunning display of other classic cars\, stroll around\, and enjoy the vibrant atmosphere. It’s a perfect night of fun and camaraderie for all car lovers! \n  \nVisit Classic Farm Machinery Club of Iron County’s Facebook page for more details!
URL:https://ironcountylodging.com/event/classic-car-cruise-night-august-26th/
LOCATION:Downtown Iron River\, MI\, Genesee St\, Iron River\, MI\, 49935\, United States
CATEGORIES:Summer
END:VEVENT
BEGIN:VEVENT
DTSTART;TZID=America/Chicago:20250827T083000
DTEND;TZID=America/Chicago:20250827T150000
DTSTAMP:20260423T001123
CREATED:20250326T131422Z
LAST-MODIFIED:20250326T131422Z
UID:8918-1756283400-1756306800@ironcountylodging.com
SUMMARY:2 Man Senior Scramble - Young’s Golf Course
DESCRIPTION:Visit Young’s Golf-Recreation-Dining’s website for more details!
URL:https://ironcountylodging.com/event/2-man-senior-scramble-youngs-golf-course-2/
LOCATION:Young’s Golf-Recreation-Dining\, 159 Young's Lane\, Crystal Falls\, MI\, 49920\, United States
CATEGORIES:Summer
END:VEVENT
END:VCALENDAR