BEGIN:VCALENDAR
VERSION:2.0
PRODID:-//Iron County Lodging Association - ECPv6.15.18//NONSGML v1.0//EN
CALSCALE:GREGORIAN
METHOD:PUBLISH
X-ORIGINAL-URL:https://ironcountylodging.com
X-WR-CALDESC:Events for Iron County Lodging Association
REFRESH-INTERVAL;VALUE=DURATION:PT1H
X-Robots-Tag:noindex
X-PUBLISHED-TTL:PT1H
BEGIN:VTIMEZONE
TZID:America/Chicago
BEGIN:DAYLIGHT
TZOFFSETFROM:-0600
TZOFFSETTO:-0500
TZNAME:CDT
DTSTART:20240310T080000
END:DAYLIGHT
BEGIN:STANDARD
TZOFFSETFROM:-0500
TZOFFSETTO:-0600
TZNAME:CST
DTSTART:20241103T070000
END:STANDARD
BEGIN:DAYLIGHT
TZOFFSETFROM:-0600
TZOFFSETTO:-0500
TZNAME:CDT
DTSTART:20250309T080000
END:DAYLIGHT
BEGIN:STANDARD
TZOFFSETFROM:-0500
TZOFFSETTO:-0600
TZNAME:CST
DTSTART:20251102T070000
END:STANDARD
BEGIN:DAYLIGHT
TZOFFSETFROM:-0600
TZOFFSETTO:-0500
TZNAME:CDT
DTSTART:20260308T080000
END:DAYLIGHT
BEGIN:STANDARD
TZOFFSETFROM:-0500
TZOFFSETTO:-0600
TZNAME:CST
DTSTART:20261101T070000
END:STANDARD
END:VTIMEZONE
BEGIN:VEVENT
DTSTART;VALUE=DATE:20250706
DTEND;VALUE=DATE:20250712
DTSTAMP:20260422T165943
CREATED:20250507T153005Z
LAST-MODIFIED:20250507T153005Z
UID:9167-1751760000-1752278399@ironcountylodging.com
SUMMARY:Junior High Venturers - Fortune Lake Lutheran Camp
DESCRIPTION:Fortune Lake provides exactly what Junior High campers need: adventure\, challenge\, acceptance\, and time to grapple with deep questions of faith in the midst of having fun! The Venturer program is for campers who have completed grades 7-8 and runs July 6-11. \nVenturers lodge in our duplex cabins that contain in-cabin bathrooms and a comfortable space to gather as a group. Campers especially enjoy time with old and new friends and cabin leaders who love to hang out with them! They live it up with a whole week of campfires (which they’ll help to lead)\, games\, and beach fun. A tent or hammock camping adventure solidifies the bonds within the cabin group and provides all sorts of great stories to bring home. \nTo learn more and to register visit https://fortunelake.org/event/venturers/ \nFor families with children of different ages\, check out Villager (completed grades 3-4) or Vagabonds (completed grades 5-6) which run simultaneously.
URL:https://ironcountylodging.com/event/junior-high-venturers-fortune-lake-lutheran-camp/
LOCATION:Fortune Lake Lutheran Camp\, 138 Fortune Lake Camp Rd\, Crystal Falls\, MI\, 49920\, United States
CATEGORIES:Summer
END:VEVENT
BEGIN:VEVENT
DTSTART;TZID=America/Chicago:20250704T190000
DTEND;TZID=America/Chicago:20250704T220000
DTSTAMP:20260422T165943
CREATED:20250410T154316Z
LAST-MODIFIED:20250410T154316Z
UID:8983-1751655600-1751666400@ironcountylodging.com
SUMMARY:Pentatonic Uncertainty at the Horseshoe Bar
DESCRIPTION:Join Pentatonic Uncertainty for musical entertainment at the Horseshoe Bar. Starting at 7pm until the fireworks start\, then again after the fireworks show. Don’t forget to stop in to the Horseshoe Bar and donate to their fireworks. 
URL:https://ironcountylodging.com/event/pentatonic-uncertainty-at-the-horseshoe-bar/
LOCATION:Horseshoe Bar\, 102 W Pine St\, Amasa\, MI\, 49903\, United States
CATEGORIES:Summer
END:VEVENT
BEGIN:VEVENT
DTSTART;TZID=America/Chicago:20250704T150000
DTEND;TZID=America/Chicago:20250704T173000
DTSTAMP:20260422T165943
CREATED:20250410T154618Z
LAST-MODIFIED:20250410T154618Z
UID:8986-1751641200-1751650200@ironcountylodging.com
SUMMARY:Fire on High @ The 111th Alpha 4th of July Celebration
DESCRIPTION:Fire on High brings you Country and Classic Rock with Powerhouse Vocals and Amazing Harmonies. We are looking forward to celebrating 4th of July with everyone!
URL:https://ironcountylodging.com/event/fire-on-high-the-111th-alpha-4th-of-july-celebration/
LOCATION:Alpha\, MI\, Alpha\, MI\, United States
CATEGORIES:Summer
END:VEVENT
BEGIN:VEVENT
DTSTART;TZID=America/Chicago:20250704T100000
DTEND;TZID=America/Chicago:20250704T110000
DTSTAMP:20260422T165943
CREATED:20250605T140125Z
LAST-MODIFIED:20250605T140125Z
UID:9301-1751623200-1751626800@ironcountylodging.com
SUMMARY:4th of July Parade - Iron River\, MI
DESCRIPTION:
URL:https://ironcountylodging.com/event/4th-of-july-parade-iron-river-mi/
LOCATION:Downtown Iron River\, MI\, Genesee St\, Iron River\, MI\, 49935\, United States
CATEGORIES:Summer
END:VEVENT
BEGIN:VEVENT
DTSTART;VALUE=DATE:20250704
DTEND;VALUE=DATE:20250705
DTSTAMP:20260422T165943
CREATED:20250226T172120Z
LAST-MODIFIED:20250227T172757Z
UID:8578-1751587200-1751673599@ironcountylodging.com
SUMMARY:West Side Veterans 4th of July Parade & Fireworks
DESCRIPTION:Start your day with an exciting parade in the morning\, then enjoy non-stop fun for the whole family with activities and games for kids of all ages! As the sun sets\, get ready for a spectacular fireworks show at dusk that will light up the night sky! It’s a day filled with excitement\, laughter\, and unforgettable memories! More details to come.
URL:https://ironcountylodging.com/event/west-side-veterans-4th-of-july-parade-fireworks/
LOCATION:Downtown Iron River\, MI\, Genesee St\, Iron River\, MI\, 49935\, United States
CATEGORIES:Summer
END:VEVENT
BEGIN:VEVENT
DTSTART;VALUE=DATE:20250704
DTEND;VALUE=DATE:20250705
DTSTAMP:20260422T165943
CREATED:20250226T171948Z
LAST-MODIFIED:20250227T152042Z
UID:8576-1751587200-1751673599@ironcountylodging.com
SUMMARY:Alpha Michigan 4th of July Celebration
DESCRIPTION:Head to Alpha\, Michigan for a celebration filled with excitement for all ages! The day kicks off with a flag-raising ceremony and parade\, followed by fun games and prizes for both kids and adults. Enjoy a variety of entertainment all day! \nSatisfy your cravings with tasty offerings from food trucks\, sip on craft beers from Alpha MI Brewing Co.\, and cap off the night with a spectacular fireworks display! It’s a celebration you won’t want to miss! \nCheck out the Alpha 4th of July facebook page for more details! \n \n 
URL:https://ironcountylodging.com/event/alpha-michigan-4th-of-july-celebration/
LOCATION:Alpha\, MI\, Alpha\, MI\, United States
CATEGORIES:Summer
END:VEVENT
BEGIN:VEVENT
DTSTART;TZID=America/Chicago:20250628T070000
DTEND;TZID=America/Chicago:20250629T170000
DTSTAMP:20260422T165943
CREATED:20250410T150935Z
LAST-MODIFIED:20250410T150935Z
UID:8953-1751094000-1751216400@ironcountylodging.com
SUMMARY:Crystal Clash - Valley Raceway
DESCRIPTION:AMA Sanctioned District 16 and Superior MX Series. Points Both Days. \nVisit Valley Raceway’s Facebook page for more details!
URL:https://ironcountylodging.com/event/crystal-clash-valley-raceway/
LOCATION:Valley Raceway\, 128 Wiggins Rd\, Crystal Falls\, MI\, 49920\, United States
CATEGORIES:Summer
END:VEVENT
BEGIN:VEVENT
DTSTART;TZID=America/Chicago:20250622T110000
DTEND;TZID=America/Chicago:20250622T160000
DTSTAMP:20260422T165943
CREATED:20250605T135237Z
LAST-MODIFIED:20250605T135237Z
UID:9291-1750590000-1750608000@ironcountylodging.com
SUMMARY:Buddha Bash - 3 Year Anniversary
DESCRIPTION:MARK YOUR CALENDARS!! WE ARE CELEBRATING!! \nSUNDAY\, JUNE 22nd from 11-4 at Buddha Bean Coffee Co. !! \nBuddha Bean will be serving food outside\, and the shop will be open from 10-4 inside the cafe!! \nFood Menu: chicken salad croissants\, dill pickle tuna salad croissants\, vanilla ice cream affogatos\, acai bowls\, and more! Service until we run out! \nWe will have so much fun for the whole family!!  \nFace painting provided by FP Volleyball fundraising for the next sport’s season! Price: donation! \nSpray tie dye table and coloring contest for the kids! \nHenna artist\, vendors\, and lots of fun for the adults too! \nBring a plant\, leave a plant SWAP TABLE!\n*please bring healthy\, peat free plants and exchange a plant of similar size from the table. \nJoin us as we celebrate THREE years of business!\nWe are all thankful to be a part of the community!! \nXoxo\, \nBuddha Bean
URL:https://ironcountylodging.com/event/buddha-bash-3-year-anniversary/
LOCATION:Buddha Bean Coffee Co.\, 1353 US-2\, Crystal Falls\, MI\, 49920\, United States
CATEGORIES:Summer
END:VEVENT
BEGIN:VEVENT
DTSTART;TZID=America/Chicago:20250621T090000
DTEND;TZID=America/Chicago:20250621T160000
DTSTAMP:20260422T165943
CREATED:20250410T153027Z
LAST-MODIFIED:20250410T153027Z
UID:8970-1750496400-1750521600@ironcountylodging.com
SUMMARY:Summer Solstice 2025 Trail Day
DESCRIPTION:Meet at the Into The Wild bike shop to spend the day with friends building and maintaining trails.
URL:https://ironcountylodging.com/event/summer-solstice-2025-trail-day/
LOCATION:Into the Wild\, 418 Washington Ave\, Iron River\, MI\, 49935\, United States
CATEGORIES:Summer
END:VEVENT
BEGIN:VEVENT
DTSTART;TZID=America/Chicago:20250621T083000
DTEND;TZID=America/Chicago:20250621T170000
DTSTAMP:20260422T165943
CREATED:20250326T130626Z
LAST-MODIFIED:20250326T130626Z
UID:8909-1750494600-1750525200@ironcountylodging.com
SUMMARY:4 Person Big Cup Scramble - Young’s Golf Course
DESCRIPTION:Visit Young’s Golf-Recreation-Dining’s website for more details!
URL:https://ironcountylodging.com/event/4-person-big-cup-scramble-youngs-golf-course/
LOCATION:Young’s Golf-Recreation-Dining\, 159 Young's Lane\, Crystal Falls\, MI\, 49920\, United States
CATEGORIES:Summer
END:VEVENT
BEGIN:VEVENT
DTSTART;TZID=America/Chicago:20250621T080000
DTEND;TZID=America/Chicago:20250621T180000
DTSTAMP:20260422T165943
CREATED:20250605T135506Z
LAST-MODIFIED:20250605T135506Z
UID:9285-1750492800-1750528800@ironcountylodging.com
SUMMARY:TT Palooza - 60 Years On The Line
DESCRIPTION:Come help us celebrate 60 YEARS of Buy\, Sell\, Trade & Connecting Communities in the UP & Northern Wisconsin on Telephone Time! \nits TT PALOOZA & in conjunction with the Iron County Historical Museum & Alpha 4th of July\, we’re kicking off the summer with a PARTY! \nWe’ll be celebrating Telephone Time\, the grand opening of the museum’s WIKB RADIO EXHIBIT\, & all the great people\, organizations and local businesses that make our communities great! \nSprawling the entire museum campus expect a day full of fun\, friends & entertainment with…\n– Sit-down breakfast by Bumps!\n– The first ever Live\, on-location Telephone Time show!\n– Music w/ Voice of the North (and TT Alumn) Adam Stender\n– Live music featuring the 7 piece band “Whispering Donkey”!\n– $$ Cornhole Tournament w/ Southern UP Cornhole (80% payout)\n– Tons of games\, PRIZES\, 50/50\, GIVEAWAYS\n– FOOD TRUCKS Bumps Burgers\, S&J Foods\, DeBackers\n– TASTY TREATS with Delightful Desserts & 2 Dips & a Truck Ice Cream!\n– Alpha MI Brewing Company Beer & a signature TT Cocktail!\n– Family Fun w/ kids games\, bouncehouse\, & more!\n– Pasty eating contests!\n…. AND LOTS MORE TO BE ANNOUNCED! \nPlus vendors\, presentations & demonstrations from local non-profits and business sponsors – all in support of our community! \nENTRY IS FREE TO ALL\nBRING CASH for food\, drinks\, games \nBRING A LAWN CHAIR or BLANKET \nEVENT IS RAIN OR SHINE\nNO CARRY INS (except for chair/blanket)\nNO PETS ALLOWED \n\nMORE INFO & SPONSORSHIP INQUIRIES\, contact:\nMitch at WIKB\, 906 396 6610 or mness@listenupradio.com \nNON-PROFITS WISHING TO FUNDRAISE AT EVENT\, contact:\nKL at Iron County Museum 906 265 2617 or info@ironcountymuseum.com
URL:https://ironcountylodging.com/event/tt-palooza-60-years-on-the-line/
LOCATION:Iron County Museum\, 100 Brady Ave\, Caspian\, MI\, 49915\, United States
CATEGORIES:Summer
END:VEVENT
BEGIN:VEVENT
DTSTART;TZID=America/Chicago:20250615T120000
DTEND;TZID=America/Chicago:20250615T150000
DTSTAMP:20260422T165943
CREATED:20250226T170746Z
LAST-MODIFIED:20250227T234202Z
UID:8694-1749988800-1749999600@ironcountylodging.com
SUMMARY:Annual Father’s Day Vintage Car & Tractor Show
DESCRIPTION:Celebrate Father’s Day in style at the Vintage Car and Tractor Show! The event kicks off with vehicle registration at 10 AM\, so bring your classic ride and register for just $10! \nEnjoy a day of 50s-60s music\, exciting raffle prizes\, and 50/50 drawings\, all while browsing the impressive collection of vintage cars and tractors. Food vendors will be on hand to satisfy your cravings\, and best of all\, admission is completely FREE! \nIt’s the perfect way to spend Father’s Day—classic cars\, great tunes\, and lots of fun for the whole family!  \n  \nVisit Classic Farm Machinery Club of Iron County’s facebook page for more details! \n   
URL:https://ironcountylodging.com/event/annual-fathers-day-vintage-car-tractor-show/
LOCATION:Downtown Iron River\, MI\, Genesee St\, Iron River\, MI\, 49935\, United States
CATEGORIES:Summer
END:VEVENT
BEGIN:VEVENT
DTSTART;TZID=America/Chicago:20250614T170000
DTEND;TZID=America/Chicago:20250614T210000
DTSTAMP:20260422T165943
CREATED:20250226T165730Z
LAST-MODIFIED:20250227T172353Z
UID:8572-1749920400-1749934800@ironcountylodging.com
SUMMARY:Saturday Cruise Fest - Downtown Iron River
DESCRIPTION:Rev up your engines for Cruise Fest in downtown Iron River! This retro celebration is packed with classic cars\, a blessing of the cars\, and a blast from the past with 50s-60s music and dancing!  \nDress in your best 50s or 60s costume for a chance to win a prize and join in the fun with food vendors\, family-friendly activities\, and all-around good vibes. It’s the perfect way to spend a day celebrating classic cars\, great music\, and even better company! Don’t miss the fun!  \n  \nVisit Classic Farm Machinery Club of Iron County’s Facebook page for more details! \n \n 
URL:https://ironcountylodging.com/event/saturday-cruise-fest-downtown-iron-river/
LOCATION:Downtown Iron River\, MI\, Genesee St\, Iron River\, MI\, 49935\, United States
CATEGORIES:Summer
END:VEVENT
BEGIN:VEVENT
DTSTART;TZID=America/Chicago:20250613T180000
DTEND;TZID=America/Chicago:20250613T193000
DTSTAMP:20260422T165943
CREATED:20250605T135557Z
LAST-MODIFIED:20250605T135557Z
UID:9282-1749837600-1749843000@ironcountylodging.com
SUMMARY:All American Circus - Iron River\, MI
DESCRIPTION:Coming to you in 2025… REAL. FAMILY. CIRCUS.  \nPRE-SALE DISCOUNT DEALS: AllAmericanCircus.com/tour-dates/ \nMake the most of our online special prices with tickets starting at $5 per person when you purchase a Family Saver (offer LIMITED and only available online\, so be quick) \nSHOW DETAILS:  \nIron County Ice Arena – 100 Museum Dr\, Iron River\, MI 49915 \nSHOWTIMES\nFriday\, June 13 | 7:00pm \nArrive early and enjoy a little extra circus fun at the kids fun zone before showtime  \nBUY ONLINE & SAVE TODAY – AllAmericanCircus.com/tour-dates/  \nHave questions about the show?? Visit our FAQ’s allamericancircus.com/faq/ or feel free to message the page and we will get back to you  \n‘INVITE’ your friends and family along by ‘SHARING’ this event\nWe will see you soon 
URL:https://ironcountylodging.com/event/all-american-circus-iron-river-mi/
LOCATION:Iron County Ice Arena\, 98 Museum Dr\, Caspian\, MI\, 49915\, United States
CATEGORIES:Summer
END:VEVENT
BEGIN:VEVENT
DTSTART;TZID=America/Chicago:20250610T083000
DTEND;TZID=America/Chicago:20250610T150000
DTSTAMP:20260422T165943
CREATED:20250326T130134Z
LAST-MODIFIED:20250326T130134Z
UID:8903-1749544200-1749567600@ironcountylodging.com
SUMMARY:2 Man Senior Scramble - Young’s Golf Course
DESCRIPTION:  \nVisit Young’s Golf-Recreation-Dining’s website for more details!
URL:https://ironcountylodging.com/event/2-man-senior-scramble-youngs-golf-course/
LOCATION:Young’s Golf-Recreation-Dining\, 159 Young's Lane\, Crystal Falls\, MI\, 49920\, United States
CATEGORIES:Summer
END:VEVENT
BEGIN:VEVENT
DTSTART;TZID=America/Chicago:20250607T160000
DTEND;TZID=America/Chicago:20250607T190000
DTSTAMP:20260422T165943
CREATED:20250507T150445Z
LAST-MODIFIED:20250507T150445Z
UID:9145-1749312000-1749322800@ironcountylodging.com
SUMMARY:Authentic Mexican Night
DESCRIPTION:
URL:https://ironcountylodging.com/event/authentic-mexican-night/
LOCATION:VFW Ottawa – Post #3134\, 94 E Genesee Street\, Iron River\, MI\, 49935\, United States
CATEGORIES:Summer
END:VEVENT
BEGIN:VEVENT
DTSTART;VALUE=DATE:20250607
DTEND;VALUE=DATE:20250609
DTSTAMP:20260422T165943
CREATED:20250226T164800Z
LAST-MODIFIED:20250227T172129Z
UID:8570-1749254400-1749427199@ironcountylodging.com
SUMMARY:Michigan "Three FREE Weekend"
DESCRIPTION:Get ready for Michigan’s Three FREE Weekend! It’s the perfect time to get outdoors and enjoy everything our beautiful state has to offer—absolutely free! \n\nFree Fishing Weekend – Cast your line without a license and enjoy some quality time by the water.\nFree ATV/ORV Weekend – Hit the trails and explore Michigan’s rugged terrain\, no permit required!\nFree State Park/Boating Access – Enjoy Michigan’s stunning parks and lakes with free access to all state parks and boating areas!\n\nWhether you’re an avid adventurer or just looking to try something new\, this weekend is all about enjoying the great outdoors at no cost. Don’t miss out!  \n     
URL:https://ironcountylodging.com/event/michigan-three-free-weekend/
LOCATION:MI
CATEGORIES:Summer
END:VEVENT
BEGIN:VEVENT
DTSTART;TZID=America/Chicago:20250601T083000
DTEND;TZID=America/Chicago:20250601T150000
DTSTAMP:20260422T165943
CREATED:20250226T163900Z
LAST-MODIFIED:20250507T150726Z
UID:8568-1748766600-1748790000@ironcountylodging.com
SUMMARY:Iron Area Health Foundation Golf Scramble - Young’s Golf Course
DESCRIPTION:Visit Iron Area Health Foundation’s Facebook page for more details! \n \n 
URL:https://ironcountylodging.com/event/iron-area-health-foundation-golf-scramble/
LOCATION:Young’s Golf-Recreation-Dining\, 159 Young's Lane\, Crystal Falls\, MI\, 49920\, United States
CATEGORIES:Summer
END:VEVENT
BEGIN:VEVENT
DTSTART;TZID=America/Chicago:20250531T070000
DTEND;TZID=America/Chicago:20250601T170000
DTSTAMP:20260422T165943
CREATED:20250410T151343Z
LAST-MODIFIED:20250410T151343Z
UID:8959-1748674800-1748797200@ironcountylodging.com
SUMMARY:Hungry Cow GP & Harescramble
DESCRIPTION:AMA Sanctioned District 16 GP and Off-road points. \nVisit Valley Raceway’s Facebook page for more details!
URL:https://ironcountylodging.com/event/hungry-cow-gp-harescramble/
LOCATION:Valley Raceway\, 128 Wiggins Rd\, Crystal Falls\, MI\, 49920\, United States
CATEGORIES:Summer
END:VEVENT
BEGIN:VEVENT
DTSTART;TZID=America/Chicago:20250527T083000
DTEND;TZID=America/Chicago:20250527T170000
DTSTAMP:20260422T165943
CREATED:20250326T125836Z
LAST-MODIFIED:20250326T130226Z
UID:8900-1748334600-1748365200@ironcountylodging.com
SUMMARY:3 Woman Big Cup Scramble - Young’s Golf Course
DESCRIPTION:Visit Young’s Golf-Recreation-Dining’s website for more details!
URL:https://ironcountylodging.com/event/3-woman-big-cup-scramble/
LOCATION:Young’s Golf-Recreation-Dining\, 159 Young's Lane\, Crystal Falls\, MI\, 49920\, United States
CATEGORIES:Spring
END:VEVENT
BEGIN:VEVENT
DTSTART;TZID=America/Chicago:20250524T120000
DTEND;TZID=America/Chicago:20250525T210000
DTSTAMP:20260422T165943
CREATED:20250226T154626Z
LAST-MODIFIED:20250507T152026Z
UID:8566-1748088000-1748206800@ironcountylodging.com
SUMMARY:7th Annual Alpha Michigan Brewing Company Celebration
DESCRIPTION:Live Music in the Beer Garden\nSaturday: 3-6PM by One Human Band\nSunday: 3-6PM by Make Believe \nFood by Chungs: Shredded BBQ Chicken Sandwich topped with Coleslaw with Mac N Cheese\n– Friday 4-8PM\n– Saturday 3-7PM\n– Sunday 3-7PM \nVisit Alpha Michigan Brewing Company‘s Facebook page for more details!
URL:https://ironcountylodging.com/event/7th-annual-alpha-michigan-brewing-company-celebration/
LOCATION:Alpha Michigan Brewing Company\, 303 E Center St\, Alpha\, MI\, 49902\, United States
CATEGORIES:Spring
END:VEVENT
BEGIN:VEVENT
DTSTART;TZID=America/Chicago:20250524T090000
DTEND;TZID=America/Chicago:20250524T130000
DTSTAMP:20260422T165943
CREATED:20250507T151130Z
LAST-MODIFIED:20250507T151130Z
UID:9152-1748077200-1748091600@ironcountylodging.com
SUMMARY:Alpha Historical Museum Annual Bake Sale
DESCRIPTION:
URL:https://ironcountylodging.com/event/alpha-historical-museum-annual-bake-sale/
LOCATION:Alpha Village Hall\, 404 Main Street\, Alpha\, MI\, 49920\, United States
CATEGORIES:Spring
END:VEVENT
BEGIN:VEVENT
DTSTART;TZID=America/Chicago:20250517T120000
DTEND;TZID=America/Chicago:20250517T200000
DTSTAMP:20260422T165943
CREATED:20250303T201008Z
LAST-MODIFIED:20250324T160924Z
UID:8835-1747483200-1747512000@ironcountylodging.com
SUMMARY:Uren Dirtworks Mud Drags
DESCRIPTION:Visit Uren Dirtworks Mud Drags Facebook page for more details! \n \n 
URL:https://ironcountylodging.com/event/uren-dirtworks-mud-drags/
LOCATION:Valley Raceway\, 128 Wiggins Rd\, Crystal Falls\, MI\, 49920\, United States
CATEGORIES:Spring
END:VEVENT
BEGIN:VEVENT
DTSTART;TZID=America/Chicago:20250517T100000
DTEND;TZID=America/Chicago:20250517T150000
DTSTAMP:20260422T165943
CREATED:20250410T150340Z
LAST-MODIFIED:20250507T152206Z
UID:8948-1747476000-1747494000@ironcountylodging.com
SUMMARY:Putts 4 Paws Birdie Bash to Benefit NAS
DESCRIPTION:The Menominee Range Gliders are hosting a Disc Golf Tournament to benefit the Northwoods Animal Shelter on May 17. The event will take place at the Alpha Disc Golf Course right behind the Alpha Brewing Co! \nAttendees will have the opportunity to meet and greet rescue dogs and enjoy a free taco lunch. Join us for a day of fun and support a great cause! \n \n 
URL:https://ironcountylodging.com/event/putts-4-paws-birdie-bash-to-benefit-nas/
LOCATION:Alpha\, MI\, Alpha\, MI\, United States
CATEGORIES:Spring
END:VEVENT
BEGIN:VEVENT
DTSTART;VALUE=DATE:20250516
DTEND;VALUE=DATE:20250519
DTSTAMP:20260422T165943
CREATED:20250226T154542Z
LAST-MODIFIED:20250227T174842Z
UID:8564-1747353600-1747612799@ironcountylodging.com
SUMMARY:Spring Garden & Plant Sale
DESCRIPTION:Get ready for the Garden and Plant Sale at the Beechwood Hall — a blooming good time for all garden lovers! Preorders will be available May 16-17\, so you can pick out your favorites in advance\, and the greenhouses will be open to the public May 18 and beyond\, offering a fantastic variety of veggies like tomatoes\, squash\, cucumbers\, broccoli\, and so much more!  \nThis event is not only a chance to get your hands dirty in the garden\, but it’s also a fundraiser for the Beechwood Historical Society. All funds raised will go toward the continued restoration and upkeep of the beautiful Beechwood Hall.  \n  \nVisit Beechwood Historical Society‘s Facebook page for more details!
URL:https://ironcountylodging.com/event/spring-garden-plant-sale/
LOCATION:Beechwood Hall\, 178 Beechwood Store Rd\, Iron River\, MI\, 49935
CATEGORIES:Spring
END:VEVENT
BEGIN:VEVENT
DTSTART;TZID=America/Chicago:20250511T110000
DTEND;TZID=America/Chicago:20250511T140000
DTSTAMP:20260422T165943
CREATED:20250410T152318Z
LAST-MODIFIED:20250410T152318Z
UID:8967-1746961200-1746972000@ironcountylodging.com
SUMMARY:Mother’s Day Brunch
DESCRIPTION:
URL:https://ironcountylodging.com/event/mothers-day-brunch/
LOCATION:VFW Ottawa – Post #3134\, 94 E Genesee Street\, Iron River\, MI\, 49935\, United States
CATEGORIES:Spring
END:VEVENT
BEGIN:VEVENT
DTSTART;TZID=America/Chicago:20250510T083000
DTEND;TZID=America/Chicago:20250510T150000
DTSTAMP:20260422T165943
CREATED:20250324T161448Z
LAST-MODIFIED:20250326T130329Z
UID:8888-1746865800-1746889200@ironcountylodging.com
SUMMARY:3 Person Scramble - Young’s Golf Course
DESCRIPTION:Visit Young’s Golf-Recreation-Dining’s website for more details!
URL:https://ironcountylodging.com/event/3-person-scramble-golf-tournament-youngs/
LOCATION:Young’s Golf-Recreation-Dining\, 159 Young's Lane\, Crystal Falls\, MI\, 49920\, United States
CATEGORIES:Spring
END:VEVENT
BEGIN:VEVENT
DTSTART;VALUE=DATE:20250510
DTEND;VALUE=DATE:20250511
DTSTAMP:20260422T165943
CREATED:20250507T145141Z
LAST-MODIFIED:20250507T145141Z
UID:9142-1746835200-1746921599@ironcountylodging.com
SUMMARY:Mother’s Day Special - Buddha Bean Coffee Co.
DESCRIPTION:Visit Buddha Bean Coffee Co.’s Facebook page for more details!
URL:https://ironcountylodging.com/event/mothers-day-special-buddha-bean-coffee-co/
LOCATION:Buddha Bean Coffee Co.\, 1353 US-2\, Crystal Falls\, MI\, 49920\, United States
CATEGORIES:Spring
END:VEVENT
BEGIN:VEVENT
DTSTART;TZID=America/Chicago:20250504T120000
DTEND;TZID=America/Chicago:20250504T160000
DTSTAMP:20260422T165943
CREATED:20250226T153455Z
LAST-MODIFIED:20250410T154824Z
UID:8556-1746360000-1746374400@ironcountylodging.com
SUMMARY:Beechwood Annual Art Show 2025
DESCRIPTION:Join the Beechwood Hall for their annual Artist Show—a vibrant celebration of local talent! Featuring stunning works from talented artisans\, this event is the perfect opportunity to support the creativity in our community. Best of all\, it’s free to the public\, though donations are always appreciated! \nVisit Beechwood Historical Society‘s Facebook page for more details!  \n \n 
URL:https://ironcountylodging.com/event/artist-show-beechwood-hall/
LOCATION:Beechwood Hall\, 178 Beechwood Store Rd\, Iron River\, MI\, 49935
CATEGORIES:Spring
END:VEVENT
BEGIN:VEVENT
DTSTART;TZID=America/Chicago:20250503T120000
DTEND;TZID=America/Chicago:20250503T170000
DTSTAMP:20260422T165943
CREATED:20250326T124941Z
LAST-MODIFIED:20250326T124941Z
UID:8895-1746273600-1746291600@ironcountylodging.com
SUMMARY:May The 4th Be With You - Alpha\, MI
DESCRIPTION:Visit Alpha 4th of July’s Facebook page for more details! \n\n  \nPlease use the link below to sign up for cornhole if you are having trouble with the QR code: https://scoreholio.app.link/A4AH0cy1xRb…
URL:https://ironcountylodging.com/event/may-the-4th-be-with-you-alpha-mi/
LOCATION:Alpha Michigan Brewing Company\, 303 E Center St\, Alpha\, MI\, 49902\, United States
CATEGORIES:Spring
END:VEVENT
END:VCALENDAR