BEGIN:VCALENDAR
VERSION:2.0
PRODID:-//Iron County Lodging Association - ECPv6.15.18//NONSGML v1.0//EN
CALSCALE:GREGORIAN
METHOD:PUBLISH
X-WR-CALNAME:Iron County Lodging Association
X-ORIGINAL-URL:https://ironcountylodging.com
X-WR-CALDESC:Events for Iron County Lodging Association
REFRESH-INTERVAL;VALUE=DURATION:PT1H
X-Robots-Tag:noindex
X-PUBLISHED-TTL:PT1H
BEGIN:VTIMEZONE
TZID:America/Chicago
BEGIN:DAYLIGHT
TZOFFSETFROM:-0600
TZOFFSETTO:-0500
TZNAME:CDT
DTSTART:20250309T080000
END:DAYLIGHT
BEGIN:STANDARD
TZOFFSETFROM:-0500
TZOFFSETTO:-0600
TZNAME:CST
DTSTART:20251102T070000
END:STANDARD
BEGIN:DAYLIGHT
TZOFFSETFROM:-0600
TZOFFSETTO:-0500
TZNAME:CDT
DTSTART:20260308T080000
END:DAYLIGHT
BEGIN:STANDARD
TZOFFSETFROM:-0500
TZOFFSETTO:-0600
TZNAME:CST
DTSTART:20261101T070000
END:STANDARD
BEGIN:DAYLIGHT
TZOFFSETFROM:-0600
TZOFFSETTO:-0500
TZNAME:CDT
DTSTART:20270314T080000
END:DAYLIGHT
BEGIN:STANDARD
TZOFFSETFROM:-0500
TZOFFSETTO:-0600
TZNAME:CST
DTSTART:20271107T070000
END:STANDARD
END:VTIMEZONE
BEGIN:VEVENT
DTSTART;TZID=America/Chicago:20260215T140000
DTEND;TZID=America/Chicago:20260215T170000
DTSTAMP:20260422T041654
CREATED:20251208T230740Z
LAST-MODIFIED:20251208T230740Z
UID:10280-1771164000-1771174800@ironcountylodging.com
SUMMARY:Live Music with Jonny Waara at The Ski Brule Saloon
DESCRIPTION:Enjoy live music with Jonny Waara at the Brule Saloon from 2–5 PM. Pair great drinks with upbeat entertainment and Ski Brule’s lively après ski atmosphere. The perfect way to unwind and enjoy the winter season with friends and family.
URL:https://ironcountylodging.com/event/jonny-waara-brule-saloon-february-15-2026/
LOCATION:Ski Brule\, 397 Brule Mountain Rd\, Iron River\, MI\, 49935\, United States
CATEGORIES:Live Music,Winter
END:VEVENT
BEGIN:VEVENT
DTSTART;TZID=America/Chicago:20260214T170000
DTEND;TZID=America/Chicago:20260214T200000
DTSTAMP:20260422T041654
CREATED:20251208T200155Z
LAST-MODIFIED:20251208T200155Z
UID:10242-1771088400-1771099200@ironcountylodging.com
SUMMARY:Pat Lowery Live Music at The Homestead Lodge Ski Brule
DESCRIPTION:Enjoy live music Saturday nights at the Homestead Lodge with Pat Lowery. Settle in for a cozy evening featuring warm BBQ dinner\, sleigh rides\, tubing\, and a marshmallow roast. It’s a must experience winter tradition at Ski Brule perfect for families\, couples\, and anyone looking to unwind after a day on the snow.
URL:https://ironcountylodging.com/event/pat-lowery-homestead-lodge-february-14-2026/
LOCATION:Ski Brule\, 397 Brule Mountain Rd\, Iron River\, MI\, 49935\, United States
CATEGORIES:Live Music,Winter
END:VEVENT
BEGIN:VEVENT
DTSTART;TZID=America/Chicago:20260214T150000
DTEND;TZID=America/Chicago:20260214T150000
DTSTAMP:20260422T041654
CREATED:20251213T223034Z
LAST-MODIFIED:20251213T223517Z
UID:10362-1771081200-1771081200@ironcountylodging.com
SUMMARY:Live Music with D B Rouse at Alpha Michigan Brewing Company
DESCRIPTION:Enjoy an afternoon of live music with D B Rouse at Alpha Michigan Brewing Company. Stop in for a relaxed atmosphere\, great drinks\, and live entertainment in the heart of Alpha. A fun and easy way to spend your afternoon while exploring Iron County.
URL:https://ironcountylodging.com/event/live-music-with-d-b-rouse-at-alpha-michigan-brewing-company/
LOCATION:Alpha Michigan Brewing Company\, 303 E Center St\, Alpha\, MI\, 49902\, United States
CATEGORIES:Entertainment,Holiday Event,Live Music
END:VEVENT
BEGIN:VEVENT
DTSTART;TZID=America/Chicago:20260214T140000
DTEND;TZID=America/Chicago:20260214T170000
DTSTAMP:20260422T041654
CREATED:20251208T224453Z
LAST-MODIFIED:20251208T224453Z
UID:10265-1771077600-1771088400@ironcountylodging.com
SUMMARY:Live Music with Pink Violin at The Ski Brule Saloon
DESCRIPTION:Enjoy live music with the Pink Violin Band at the Brule Saloon from 2–5 PM. Relax with great drinks\, lively entertainment\, and Ski Brule’s fun après ski atmosphere. It’s the perfect way to unwind after a day on the slopes and enjoy the winter season with friends and family.
URL:https://ironcountylodging.com/event/pink-violin-band-brule-saloon-february-14-2026/
LOCATION:Ski Brule\, 397 Brule Mountain Rd\, Iron River\, MI\, 49935\, United States
CATEGORIES:Live Music,Winter
END:VEVENT
BEGIN:VEVENT
DTSTART;TZID=America/Chicago:20260214T110000
DTEND;TZID=America/Chicago:20260214T140000
DTSTAMP:20260422T041654
CREATED:20260210T004047Z
LAST-MODIFIED:20260210T004202Z
UID:10791-1771066800-1771077600@ironcountylodging.com
SUMMARY:Boujie Bevs is popping up at Super One Foods
DESCRIPTION:Valentine’s Day! 💖 Join us inside the old Intermission area near Verizon for a cozy pop-up café experience. We’ll be serving up our signature gourmet sodas\, energy drinks\, cocoa\, and coffee—perfect for a mid-day treat or a Valentine’s day date!
URL:https://ironcountylodging.com/event/boujie-bevs-is-popping-up-at-super-one-foods/
LOCATION:Super One Food\, 833 Riverside Ave.
CATEGORIES:Community Event,Food & Bev,Holiday Event
ATTACH;FMTTYPE=image/jpeg:https://ironcountylodging.com/wp-content/uploads/2026/02/Boujiee-Bev.jpg
END:VEVENT
BEGIN:VEVENT
DTSTART;VALUE=DATE:20260214
DTEND;VALUE=DATE:20260216
DTSTAMP:20260422T041654
CREATED:20251213T230104Z
LAST-MODIFIED:20251213T231116Z
UID:10374-1771027200-1771199999@ironcountylodging.com
SUMMARY:World Series of Snowmobile Racing
DESCRIPTION:Experience high energy ice oval racing as top riders compete in the World Series of Snowmobile Racing. This winter motorsports event features modern sled competition\, fast laps\, and exciting action for racing fans of all ages. A must see event during the winter season.
URL:https://ironcountylodging.com/event/world-series-of-snowmobile-racing/
LOCATION:World Championship Derby Complex\, 1311 N Railroad At.\, Eagle River\, WI\, 54521\, United States
CATEGORIES:outdoor recreation,Winter
END:VEVENT
BEGIN:VEVENT
DTSTART;VALUE=DATE:20260214
DTEND;VALUE=DATE:20260215
DTSTAMP:20260422T041654
CREATED:20251212T021119Z
LAST-MODIFIED:20251217T171514Z
UID:10318-1771027200-1771113599@ironcountylodging.com
SUMMARY:Valentines Day
DESCRIPTION:
URL:https://ironcountylodging.com/event/valentines-day/
LOCATION:MI
CATEGORIES:Holiday Event
END:VEVENT
BEGIN:VEVENT
DTSTART;VALUE=DATE:20260214
DTEND;VALUE=DATE:20260215
DTSTAMP:20260422T041654
CREATED:20260126T225353Z
LAST-MODIFIED:20260126T230916Z
UID:10737-1771027200-1771113599@ironcountylodging.com
SUMMARY:Relic Ride
DESCRIPTION:⏰ Meet Time: 9:30 AM | Departure: 10:00 AM\n📍 Starting Location: Trailhead near the Chippewa Sno-Kats groomer barn at the intersection of Trail 113 and US Hwy 69\, downtown Crystal Falls\n🛷 Total Distance: Approximately 20 miles\n👥 Open to: Members and non-members \nJoin fellow snowmobile enthusiasts for an Antique Snowmobile Relic Ride through Iron County. This casual group ride welcomes riders of historic machines looking for a fun winter outing. \nThe ride begins in Crystal Falls and travels south to Alpha\, where participants will stop to display their machines near Alpha Michigan Brewing Company. Lunch and beverages will be available for purchase at the brewery. The return ride to Crystal Falls begins at 3:00 PM. Trailer parking is available at the starting location. \nAll are welcome to attend; however\, please note this is not a club-sanctioned or Michigan DNR–hosted event. This is a relaxed ride organized by enthusiasts for the enjoyment of antique snowmobiles. \n📌 Important Information:\n• All Michigan snowmobile registration and licensing rules apply\n• Riders participate at their own discretion\n• Event details are subject to change based on conditions \n🏨 Make it a weekend in Iron County. Book local lodging and enjoy easy trail access\, dining\, and winter recreation before and after the ride. 👉  Iron County Lodging  \n 
URL:https://ironcountylodging.com/event/relic-ride/
LOCATION:Sno-Kats Trail Club\, 9 Superior Ave\, Crystal Falls\, MI\, 49920\, United States
CATEGORIES:Community Event,Snowmobiling,Winter
END:VEVENT
BEGIN:VEVENT
DTSTART;VALUE=DATE:20260214
DTEND;VALUE=DATE:20260216
DTSTAMP:20260422T041654
CREATED:20251123T000145Z
LAST-MODIFIED:20251213T221054Z
UID:10108-1771027200-1771199999@ironcountylodging.com
SUMMARY:Free Fishing Weekend Michigan – February 14–15\, 2026
DESCRIPTION:Experience Michigan’s Free Fishing Weekend on February 14–15\, 2026\, with two full days of license-free fishing across the state. Residents and out-of-state visitors can fish all inland lakes\, rivers\, and Great Lakes waters at no cost. All fishing regulations still apply\, but no fishing license or Recreation Passport is required. \nWinter Free Fishing Weekend is the perfect chance for families\, beginners\, and seasoned anglers to enjoy Michigan’s premier outdoor activity together. Visit a nearby state park for special programs or take advantage of the weekend to try ice fishing—just be sure to review Michigan’s ice-safety guidelines before heading out. \nThis weekend also aligns with Michigan’s “Three Free Weekend\,” allowing riders to explore ORV trails without an ORV license or trail permit. All other ORV laws remain in effect. \n2026 Free Fishing Weekend Dates:\nWinter: February 14 & 15\, 2026\nSummer: June 13 & 14\, 2026 \nThe winter Free Fishing Weekend always occurs on Presidents’ Day weekend\, making it an ideal time to get outside\, explore Iron County\, and enjoy Michigan’s winter fishing tradition. \n 
URL:https://ironcountylodging.com/event/free-fishing-weekend-michigan-february-2026/
LOCATION:MI
CATEGORIES:outdoor recreation,Winter
ATTACH;FMTTYPE=image/jpeg:https://ironcountylodging.com/wp-content/uploads/2025/11/free-fish-feb-26.jpg
END:VEVENT
BEGIN:VEVENT
DTSTART;TZID=America/Chicago:20260208T170000
DTEND;TZID=America/Chicago:20260208T200000
DTSTAMP:20260422T041654
CREATED:20251214T000154Z
LAST-MODIFIED:20251214T000414Z
UID:10404-1770570000-1770580800@ironcountylodging.com
SUMMARY:Soup’er Bowl Sunday at Reino Post 21
DESCRIPTION:Celebrate game day with a cozy community soup night at the American Legion Reino Post 21. Soup’er Bowl Sunday brings people together to enjoy a variety of homemade soups while watching the big game. The evening includes raffles and a welcoming\, social atmosphere that supports the local American Legion. A great way to spend Super Bowl Sunday with friends\, family\, and neighbors in Iron River.
URL:https://ironcountylodging.com/event/souper-bowl-sunday-at-reino-post-21/
LOCATION:American Legion Auxiliary Reino Unit 21\, 212 Washington Ave\, Iron River\, MI\, 49935\, United States
CATEGORIES:Community Event,Entertainment
END:VEVENT
BEGIN:VEVENT
DTSTART;TZID=America/Chicago:20260207T170000
DTEND;TZID=America/Chicago:20260207T200000
DTSTAMP:20260422T041654
CREATED:20251208T194345Z
LAST-MODIFIED:20251208T194345Z
UID:10240-1770483600-1770494400@ironcountylodging.com
SUMMARY:Pat Lowery Live Music at The Homestead Lodge Ski Brule
DESCRIPTION:Enjoy live music Saturday nights at the Homestead Lodge with Pat Lowery. Settle in for a cozy evening featuring warm BBQ dinner\, sleigh rides\, tubing\, and a marshmallow roast. It’s a must experience winter tradition at Ski Brule perfect for families\, couples\, and anyone looking to unwind after a day on the snow.
URL:https://ironcountylodging.com/event/pat-lowery-homestead-lodge-february-7-2026/
LOCATION:Ski Brule\, 397 Brule Mountain Rd\, Iron River\, MI\, 49935\, United States
CATEGORIES:Live Music,Winter
END:VEVENT
BEGIN:VEVENT
DTSTART;TZID=America/Chicago:20260207T140000
DTEND;TZID=America/Chicago:20260207T170000
DTSTAMP:20260422T041654
CREATED:20251208T230531Z
LAST-MODIFIED:20251208T230531Z
UID:10278-1770472800-1770483600@ironcountylodging.com
SUMMARY:Live Music with Jonny Waara at The Ski Brule Saloon
DESCRIPTION:Enjoy live music with Jonny Waara at the Brule Saloon from 2–5 PM. Pair great drinks with upbeat entertainment and Ski Brule’s lively après ski atmosphere. The perfect way to unwind and enjoy the winter season with friends and family.
URL:https://ironcountylodging.com/event/jonny-waara-brule-saloon-february-7-2026/
LOCATION:Ski Brule\, 397 Brule Mountain Rd\, Iron River\, MI\, 49935\, United States
CATEGORIES:Live Music,Winter
END:VEVENT
BEGIN:VEVENT
DTSTART;TZID=America/Chicago:20260131T170000
DTEND;TZID=America/Chicago:20260131T200000
DTSTAMP:20260422T041654
CREATED:20251208T193659Z
LAST-MODIFIED:20251208T193659Z
UID:10238-1769878800-1769889600@ironcountylodging.com
SUMMARY:Pat Lowery Live Music at The Homestead Lodge Ski Brule
DESCRIPTION:Enjoy live music Saturday nights at the Homestead Lodge with Pat Lowery. Settle in for a cozy evening featuring warm BBQ dinner\, sleigh rides\, tubing\, and a marshmallow roast. It’s a must experience winter tradition at Ski Brule perfect for families\, couples\, and anyone looking to unwind after a day on the snow.
URL:https://ironcountylodging.com/event/pat-lowery-live-music-at-the-homestead-lodge-ski-brule/
LOCATION:Ski Brule\, 397 Brule Mountain Rd\, Iron River\, MI\, 49935\, United States
CATEGORIES:Live Music,Winter
END:VEVENT
BEGIN:VEVENT
DTSTART;TZID=America/Chicago:20260131T140000
DTEND;TZID=America/Chicago:20260131T170000
DTSTAMP:20260422T041654
CREATED:20251212T022329Z
LAST-MODIFIED:20251212T023157Z
UID:10324-1769868000-1769878800@ironcountylodging.com
SUMMARY:D.B. Rouse Live Music at the Ski Brule Saloon
DESCRIPTION:Join Ski Brule for live music with D.B. Rouse at the Brule Saloon. This afternoon performance adds a lively musical backdrop to your winter day on the mountain and is open to all guests visiting the resort.
URL:https://ironcountylodging.com/event/db-rouse-brule-saloon-january-31-2026/
LOCATION:Ski Brule\, 397 Brule Mountain Rd\, Iron River\, MI\, 49935\, United States
CATEGORIES:Live Music,Winter
END:VEVENT
BEGIN:VEVENT
DTSTART;VALUE=DATE:20260131
DTEND;VALUE=DATE:20260201
DTSTAMP:20260422T041654
CREATED:20251212T020534Z
LAST-MODIFIED:20251212T020534Z
UID:10312-1769817600-1769903999@ironcountylodging.com
SUMMARY:Scouts BSA Winter Merit Badge Day
DESCRIPTION:Scouts BSA members in grades 6–12 are invited to participate in Winter Merit Badge Day at Ski Brule. This full-day program includes classroom instruction\, on snow skills development\, and guided training toward completing the winter sports merit badge. Scouts must remain with their assigned group throughout the day to fulfill all badge components. \nThis program requires advance registration by the listed deadlines\, available on the Ski Brule events page. Discipline selection (skiing or snowboarding) must be chosen at registration and cannot be changed the day of the event.
URL:https://ironcountylodging.com/event/scouts-bsa-winter-merit-badge-day/
LOCATION:Ski Brule\, 397 Brule Mountain Rd\, Iron River\, MI\, 49935\, United States
CATEGORIES:outdoor recreation,Winter
END:VEVENT
BEGIN:VEVENT
DTSTART;VALUE=DATE:20260129
DTEND;VALUE=DATE:20260202
DTSTAMP:20260422T041654
CREATED:20251212T012350Z
LAST-MODIFIED:20251212T012350Z
UID:10300-1769644800-1769990399@ironcountylodging.com
SUMMARY:First Responders Appreciation Week at Ski Brule
DESCRIPTION:Ski Brule is recognizing first responders including EMS\, police\, firefighters\, and dispatch with a special Appreciation Week. Eligible guests and their families are invited to enjoy time together in appreciation of their service to the community.
URL:https://ironcountylodging.com/event/first-responders-appreciation-week-at-ski-brule/
LOCATION:Ski Brule\, 397 Brule Mountain Rd\, Iron River\, MI\, 49935\, United States
CATEGORIES:outdoor recreation,Winter
END:VEVENT
BEGIN:VEVENT
DTSTART;TZID=America/Chicago:20260124T173000
DTEND;TZID=America/Chicago:20260124T210000
DTSTAMP:20260422T041654
CREATED:20260122T212813Z
LAST-MODIFIED:20260122T212813Z
UID:10704-1769275800-1769288400@ironcountylodging.com
SUMMARY:Nick Baumgartner Dreamchaser Celebration at Ski Brule
DESCRIPTION:Join the community for a special evening celebrating Iron River native and Olympic gold medalist Nick Baumgartner as he prepares for the 2026 Winter Olympics. This event features a casual meet and greet\, photo opportunities\, autographs\, and a book signing of Nick’s autobiography\, Gold from Iron. Friends\, families\, and supporters are invited to gather\, show encouragement\, and recognize Nick’s achievements and connection to Iron County. Guests under 21 must be accompanied by an adult.
URL:https://ironcountylodging.com/event/nick-baumgartner-dreamchaser-celebration-at-ski-brule/
LOCATION:Ski Brule\, 397 Brule Mountain Rd\, Iron River\, MI\, 49935\, United States
CATEGORIES:Community Event,Entertainment,Winter
END:VEVENT
BEGIN:VEVENT
DTSTART;TZID=America/Chicago:20260124T170000
DTEND;TZID=America/Chicago:20260124T200000
DTSTAMP:20260422T041654
CREATED:20251208T193423Z
LAST-MODIFIED:20251208T193423Z
UID:10236-1769274000-1769284800@ironcountylodging.com
SUMMARY:Pat Lowery Live Music at The Homestead Lodge Ski Brule
DESCRIPTION:Enjoy live music Saturday nights at the Homestead Lodge with Pat Lowery. Settle in for a cozy evening featuring warm BBQ dinner\, sleigh rides\, tubing\, and a marshmallow roast. It’s a must experience winter tradition at Ski Brule perfect for families\, couples\, and anyone looking to unwind after a day on the snow.
URL:https://ironcountylodging.com/event/pat-lowery-homestead-lodge-january-24-2026/
LOCATION:Ski Brule\, 397 Brule Mountain Rd\, Iron River\, MI\, 49935\, United States
CATEGORIES:Live Music,Winter
END:VEVENT
BEGIN:VEVENT
DTSTART;TZID=America/Chicago:20260124T140000
DTEND;TZID=America/Chicago:20260124T170000
DTSTAMP:20260422T041654
CREATED:20251208T224102Z
LAST-MODIFIED:20251208T224102Z
UID:10263-1769263200-1769274000@ironcountylodging.com
SUMMARY:Live Music with Pink Violin at The Ski Brule Saloon
DESCRIPTION:  \nEnjoy live music with the Pink Violin Band at the Brule Saloon from 2–5 PM. Relax with great drinks\, lively entertainment\, and Ski Brule’s fun après ski atmosphere. It’s the perfect way to unwind after a day on the slopes and enjoy the winter season with friends and family.
URL:https://ironcountylodging.com/event/pink-violin-band-brule-saloon-january-24-2026/
LOCATION:Ski Brule\, 397 Brule Mountain Rd\, Iron River\, MI\, 49935\, United States
CATEGORIES:Live Music,Winter
END:VEVENT
BEGIN:VEVENT
DTSTART;TZID=America/Chicago:20260124T080000
DTEND;TZID=America/Chicago:20260124T170000
DTSTAMP:20260422T041654
CREATED:20251212T015936Z
LAST-MODIFIED:20251212T015936Z
UID:10310-1769241600-1769274000@ironcountylodging.com
SUMMARY:Ski Brule Cub Scout Day (Grades K–5)
DESCRIPTION:Ski Brule is hosting a special Cub Scout Day for scouts in grades K–5. Cub Scouts and their families are invited to participate in a morning skiing program that includes on snow instruction and winter activities. This youth focused event offers a fun and educational introduction to skiing in a supportive environment. \nPre-registration is required and must be completed by January 22 on the Ski Brule events page. \n 
URL:https://ironcountylodging.com/event/ski-brule-cub-scout-day-grades-k-5/
LOCATION:Ski Brule\, 397 Brule Mountain Rd\, Iron River\, MI\, 49935\, United States
CATEGORIES:outdoor recreation,Winter
END:VEVENT
BEGIN:VEVENT
DTSTART;VALUE=DATE:20260124
DTEND;VALUE=DATE:20260125
DTSTAMP:20260422T041654
CREATED:20260106T161857Z
LAST-MODIFIED:20260106T161857Z
UID:10660-1769212800-1769299199@ironcountylodging.com
SUMMARY:Smear Tournament - Crystal Falls
DESCRIPTION:Tufts Rondon VFW Post 2891 will host a Smear Tournament on January 24 in Crystal Falls. This community card tournament is open to participants who pre-register. Additional event details will be shared as they become available. \nRegistration\nPre-registration required\n📞 906-875-6594
URL:https://ironcountylodging.com/event/smear-tournament-crystal-falls/
LOCATION:Tufts Rondon VFW – Post #2891\, 108 Superior Ave\, Crystal Falls\, MI\, 49920\, United States
CATEGORIES:Community Event
END:VEVENT
BEGIN:VEVENT
DTSTART;TZID=America/Chicago:20260122T170000
DTEND;TZID=America/Chicago:20260124T190000
DTSTAMP:20260422T041654
CREATED:20260123T012902Z
LAST-MODIFIED:20260123T013436Z
UID:10723-1769101200-1769281200@ironcountylodging.com
SUMMARY:Predator Hunt at Amasa Sawblade
DESCRIPTION:Join Amasa Sawblade for their first ever Predator Hunt\, welcoming individual hunters and teams for a multi day winter event with prizes\, food\, and live music. \nEvent Dates & Times\nRegistration: Thursday\, January 22 from 5:00 – 7:00 PM complimentary pizza served at 6:00 PM.\nThe hunt begins Thursday at 7:00 PM and runs through Saturday\, January 24.\nAll harvested animals must be checked in on Saturday between 3:00–5:00 PM. \nRegistration Fees\n$25 per registered hunter\n$15 per licensed youth (17 & under)\nTeams are welcome\nAll registration fees go toward prizes \nPrizes\nAwards will be given for the heaviest Bobcat\, Coyote\, and Fox.\nThe Sawblade Trifecta – harvesting one of each species earns hunters their registration fee back. \nSaturday Night Finale\nLive music begins at 5:00 PM\, along with a bonfire and food to close out the event. \nQuestions or More Information\nContact John at: (906) 214-8770 or (906) 822-0192. \n 
URL:https://ironcountylodging.com/event/predator-hunt-at-amasa-sawblade/
LOCATION:Amasa Sawblade\, 110 W Pine St.\, Amasa\, MI\, 49903\, United States
CATEGORIES:Community Event,Hunting
END:VEVENT
BEGIN:VEVENT
DTSTART;VALUE=DATE:20260122
DTEND;VALUE=DATE:20260126
DTSTAMP:20260422T041654
CREATED:20251212T013645Z
LAST-MODIFIED:20251212T013645Z
UID:10307-1769040000-1769385599@ironcountylodging.com
SUMMARY:Military Appreciation Week at Ski Brule
DESCRIPTION:Ski Brule is honouring active duty military members\, veterans\, and their families during a dedicated Military Appreciation Week. This recognition event offers eligible guests and their accompanying families the opportunity to enjoy winter fun in celebration of their service.
URL:https://ironcountylodging.com/event/military-appreciation-week-at-ski-brule-2/
LOCATION:Ski Brule\, 397 Brule Mountain Rd\, Iron River\, MI\, 49935\, United States
CATEGORIES:outdoor recreation,Winter
END:VEVENT
BEGIN:VEVENT
DTSTART;VALUE=DATE:20260122
DTEND;VALUE=DATE:20260123
DTSTAMP:20260422T041654
CREATED:20260106T161019Z
LAST-MODIFIED:20260106T162034Z
UID:10652-1769040000-1769126399@ironcountylodging.com
SUMMARY:Bingo
DESCRIPTION:The Crystal Falls / Iron River Masonic Lodge will host a Bingo event on January 22. Community members and visitors are invited to attend and enjoy a classic game night in a local lodge setting. Additional event details will be shared as they become available.
URL:https://ironcountylodging.com/event/bingo/
LOCATION:CF/ IR Masonic Lodge #385\, 809 US-141\, Crystal Falls\, MI\, 49920\, United States
CATEGORIES:Community Event
END:VEVENT
BEGIN:VEVENT
DTSTART;VALUE=DATE:20260119
DTEND;VALUE=DATE:20260120
DTSTAMP:20260422T041654
CREATED:20251212T021305Z
LAST-MODIFIED:20251217T171455Z
UID:10320-1768780800-1768867199@ironcountylodging.com
SUMMARY:Martin Luther King Jr. Day
DESCRIPTION:
URL:https://ironcountylodging.com/event/martin-luther-king-jr-day/
LOCATION:MI
CATEGORIES:Holiday Event
END:VEVENT
BEGIN:VEVENT
DTSTART;TZID=America/Chicago:20260117T170000
DTEND;TZID=America/Chicago:20260117T200000
DTSTAMP:20260422T041654
CREATED:20251208T193023Z
LAST-MODIFIED:20251208T193023Z
UID:10234-1768669200-1768680000@ironcountylodging.com
SUMMARY:Pat Lowery Live Music at The Homestead Lodge Ski Brule
DESCRIPTION:Enjoy live music Saturday nights at the Homestead Lodge with Pat Lowery. Settle in for a cozy evening featuring warm BBQ dinner\, sleigh rides\, tubing\, and a marshmallow roast. It’s a must experience winter tradition at Ski Brule perfect for families\, couples\, and anyone looking to unwind after a day on the snow.
URL:https://ironcountylodging.com/event/pat-lowery-homestead-lodge-january-17-2026/
LOCATION:Ski Brule\, 397 Brule Mountain Rd\, Iron River\, MI\, 49935\, United States
CATEGORIES:Live Music,Winter
END:VEVENT
BEGIN:VEVENT
DTSTART;TZID=America/Chicago:20260117T140000
DTEND;TZID=America/Chicago:20260117T170000
DTSTAMP:20260422T041654
CREATED:20251212T022057Z
LAST-MODIFIED:20251212T022057Z
UID:10322-1768658400-1768669200@ironcountylodging.com
SUMMARY:D.B. Rouse Live Music at the Ski Brule Saloon
DESCRIPTION:Enjoy an afternoon of live music with D.B. Rouse at the Brule Saloon. This winter performance offers a relaxing and upbeat après-ski atmosphere for guests spending the day at Ski Brule. A great way to unwind and enjoy live entertainment during your visit.
URL:https://ironcountylodging.com/event/d-b-rouse-live-music-at-the-ski-brule-saloon/
LOCATION:Ski Brule\, 397 Brule Mountain Rd\, Iron River\, MI\, 49935\, United States
CATEGORIES:Live Music,Winter
END:VEVENT
BEGIN:VEVENT
DTSTART;VALUE=DATE:20260117
DTEND;VALUE=DATE:20260119
DTSTAMP:20260422T041654
CREATED:20251213T225651Z
LAST-MODIFIED:20251213T225724Z
UID:10372-1768608000-1768780799@ironcountylodging.com
SUMMARY:6th World Championship Pro Enduro
DESCRIPTION:The World Championship Pro Enduro returns for an action packed weekend of elite snowmobile racing. Following the World Championship Snowmobile Derby\, top riders take on a demanding endurance format at the iconic Derby Complex in Eagle River. Spectators can experience high energy racing as drivers push speed\, skill\, and stamina to the limit in this premier winter motorsports event.
URL:https://ironcountylodging.com/event/6th-world-championship-pro-enduro/
LOCATION:World Championship Derby Complex\, 1311 N Railroad At.\, Eagle River\, WI\, 54521\, United States
CATEGORIES:Entertainment,outdoor recreation
END:VEVENT
BEGIN:VEVENT
DTSTART;TZID=America/Chicago:20260116T183000
DTEND;TZID=America/Chicago:20260116T183000
DTSTAMP:20260422T041654
CREATED:20260106T150825Z
LAST-MODIFIED:20260106T155324Z
UID:10639-1768588200-1768588200@ironcountylodging.com
SUMMARY:Texas Hold'em Tournament (Caspian–Gaastra Fire Department)
DESCRIPTION:The Caspian–Gaastra Fire Department hosts four tournaments throughout the year in support of local fire department operations and community services. The January 16\, 2026 event is part of this ongoing tournament series and welcomes community members and visitors to take part in a locally supported fundraiser. \nMeals will be provided for players and workers thanks to the support of Bumps Burgers. \nAdditional Tournament Dates\nThis Texas Hold’em tournament is part of a multi-date fundraiser series hosted by the Caspian–Gaastra Fire Department. \nUpcoming  Tournaments: \n• February 20\, 2026\n• March 20\, 2026 \nFood & Hospitality\nMeals provided for players and workers\nCourtesy of Bumps Burgers (Iron River) \nRegistration & Questions\n📞 Contact Matt at 906-284-0036\n📧 Email caspiangaastra@yahoo.com \nAudience\nCommunity members\nTournament participants\nVisitors interested in local fundraisers and Iron County events
URL:https://ironcountylodging.com/event/texas-holdem-tournament-caspian-gaastra-fire-department/
LOCATION:Caspian Gaastra Fire Department\, 1 Museum Drive\, Caspian\, MI\, 49915\, United States
CATEGORIES:Community Event
END:VEVENT
BEGIN:VEVENT
DTSTART;TZID=America/Chicago:20260110T170000
DTEND;TZID=America/Chicago:20260110T200000
DTSTAMP:20260422T041654
CREATED:20251208T192639Z
LAST-MODIFIED:20251208T192639Z
UID:10232-1768064400-1768075200@ironcountylodging.com
SUMMARY:Pat Lowery Live Music at The Homestead Lodge Ski Brule
DESCRIPTION:Enjoy live music Saturday nights at the Homestead Lodge with Pat Lowery. Settle in for a cozy evening featuring warm BBQ dinner\, sleigh rides\, tubing\, and a marshmallow roast. It’s a must experience winter tradition at Ski Brule perfect for families\, couples\, and anyone looking to unwind after a day on the snow.
URL:https://ironcountylodging.com/event/pat-lowery-homestead-lodge-january-10-2026/
LOCATION:Ski Brule\, 397 Brule Mountain Rd\, Iron River\, MI\, 49935\, United States
CATEGORIES:Live Music,Winter
END:VEVENT
END:VCALENDAR