BEGIN:VCALENDAR
VERSION:2.0
PRODID:-//Iron County Lodging Association - ECPv6.15.18//NONSGML v1.0//EN
CALSCALE:GREGORIAN
METHOD:PUBLISH
X-WR-CALNAME:Iron County Lodging Association
X-ORIGINAL-URL:https://ironcountylodging.com
X-WR-CALDESC:Events for Iron County Lodging Association
REFRESH-INTERVAL;VALUE=DURATION:PT1H
X-Robots-Tag:noindex
X-PUBLISHED-TTL:PT1H
BEGIN:VTIMEZONE
TZID:America/Chicago
BEGIN:DAYLIGHT
TZOFFSETFROM:-0600
TZOFFSETTO:-0500
TZNAME:CDT
DTSTART:20240310T080000
END:DAYLIGHT
BEGIN:STANDARD
TZOFFSETFROM:-0500
TZOFFSETTO:-0600
TZNAME:CST
DTSTART:20241103T070000
END:STANDARD
BEGIN:DAYLIGHT
TZOFFSETFROM:-0600
TZOFFSETTO:-0500
TZNAME:CDT
DTSTART:20250309T080000
END:DAYLIGHT
BEGIN:STANDARD
TZOFFSETFROM:-0500
TZOFFSETTO:-0600
TZNAME:CST
DTSTART:20251102T070000
END:STANDARD
BEGIN:DAYLIGHT
TZOFFSETFROM:-0600
TZOFFSETTO:-0500
TZNAME:CDT
DTSTART:20260308T080000
END:DAYLIGHT
BEGIN:STANDARD
TZOFFSETFROM:-0500
TZOFFSETTO:-0600
TZNAME:CST
DTSTART:20261101T070000
END:STANDARD
END:VTIMEZONE
BEGIN:VEVENT
DTSTART;TZID=America/Chicago:20250412T153000
DTEND;TZID=America/Chicago:20250412T173000
DTSTAMP:20260422T173210
CREATED:20250410T151728Z
LAST-MODIFIED:20250410T151728Z
UID:8964-1744471800-1744479000@ironcountylodging.com
SUMMARY:FREE Rachel Kurtz Concert
DESCRIPTION:EVERYONE is invited to this special event! \nFortune Lake is hosting a free concert open to all this coming Saturday\, April 12th\, at 3:30 pm CT. Rachel Kurtz\, talented singer songwriter\, will be sharing her beautiful music and powerful vocals with us. Rachel will have just spent time with the participants of our In The Body Retreat\, but this concert will give EVERYONE a chance to hear from Rachel! To learn more about Rachel and her work\, follow this link: https://www.rachelkurtz.com/ \nThis event is totally free! What better way to spend a Saturday afternoon? Get a group together or come on your own and join in the fun. We hope to see you there! \nQuestions? Call the camp office at (906)214-2267 or email Charlotte at hospitality@fortunelake.org.
URL:https://ironcountylodging.com/event/free-rachel-kurtz-concert/
LOCATION:Fortune Lake Lutheran Camp\, 138 Fortune Lake Camp Rd\, Crystal Falls\, MI\, 49920\, United States
CATEGORIES:Spring
END:VEVENT
BEGIN:VEVENT
DTSTART;TZID=America/Chicago:20250412T110000
DTEND;TZID=America/Chicago:20250412T130000
DTSTAMP:20260422T173210
CREATED:20250227T184306Z
LAST-MODIFIED:20250227T184318Z
UID:8826-1744455600-1744462800@ironcountylodging.com
SUMMARY:Lunch with the Easter Bunny
DESCRIPTION:The American Legion Auxiliary will be hosting Lunch with the Easter Bunny! Bring the kids and join the fun from 11am to 1pm. They will be serving hot dogs\, chips\, and a cookie. \nEach child will get a gift and will also be put in a raffle to win a bike or an Easter Basket. 4 Bikes & 2 Easter Baskets will be given away! \n \n \nVisit American Legion Auxiliary Reino Unit 21’s Facebook page for more details!
URL:https://ironcountylodging.com/event/lunch-with-the-easter-bunny/
LOCATION:American Legion Auxiliary Reino Unit 21\, 212 Washington Ave\, Iron River\, MI\, 49935\, United States
CATEGORIES:Spring
END:VEVENT
BEGIN:VEVENT
DTSTART;TZID=America/Chicago:20250412T110000
DTEND;TZID=America/Chicago:20250412T123000
DTSTAMP:20260422T173210
CREATED:20250226T153916Z
LAST-MODIFIED:20250307T035815Z
UID:8560-1744455600-1744461000@ironcountylodging.com
SUMMARY:Easter Egg Hunt - Runkle Lake Recreation Area
DESCRIPTION:Hop on over to the Runkle Lake Recreational Area for the most egg-citing Easter Egg Hunt around! Whether it’s a sunny spring day or we’ve just gotten a snowy surprise (we’re talking 12 inches of fresh powder!)\, this event is always a BIG hit. The hunt features special areas for different age groups\, so everyone—big or small—has a fair shot at finding those hidden treasures! \n  \nVisit Crystal Falls Business Association‘s Facebook page for more details! \n \n 
URL:https://ironcountylodging.com/event/easter-egg-hunt-runkle-lake-recreation-area/
LOCATION:Runkle Lake Recreation Area\, Runkle Lake Rd\, Crystal Falls\, MI\, 49920\, United States
CATEGORIES:Spring
END:VEVENT
BEGIN:VEVENT
DTSTART;TZID=America/Chicago:20250412T100000
DTEND;TZID=America/Chicago:20250412T110000
DTSTAMP:20260422T173210
CREATED:20250307T040522Z
LAST-MODIFIED:20250326T125217Z
UID:8853-1744452000-1744455600@ironcountylodging.com
SUMMARY:Easter Egg Hunt - West Iron District Library
DESCRIPTION:Hop on over to West Iron District Library in Iron River for an exciting Easter Egg Hunt! Bring your baskets and your best egg-spotting skills! \n  \nVisit West Iron District Library’s Facebook page for more details! \n \n 
URL:https://ironcountylodging.com/event/easter-egg-hunt-west-iron-district-library/
LOCATION:West Iron District Library\, 116 W Genesee St\, Iron River\, MI\, 49935\, United States
CATEGORIES:Spring
END:VEVENT
BEGIN:VEVENT
DTSTART;TZID=America/Chicago:20250412T090000
DTEND;TZID=America/Chicago:20250412T140000
DTSTAMP:20260422T173210
CREATED:20250226T154452Z
LAST-MODIFIED:20250307T035502Z
UID:8562-1744448400-1744466400@ironcountylodging.com
SUMMARY:Spring Craft & Vendor Show
DESCRIPTION:Come explore the Craft Show at The Windsor Center! With a fantastic array of talented vendors\, you’ll find everything from beautifully crafted wooden pieces and cozy knitted goods to stunning jewelry and all-natural soaps. Plus\, don’t forget to stop by Gigles Craft Shop\, where the creativity never ends! \nIt’s the perfect event to support local artisans and find unique treasures. Everyone’s welcome to join in the fun and discover something special!  \n 
URL:https://ironcountylodging.com/event/spring-craft-vendor-show-the-windsor-center/
LOCATION:The Windsor Center\, 612 W Adams St\, Iron River\, MI\, 49935\, United States
CATEGORIES:Spring
END:VEVENT
BEGIN:VEVENT
DTSTART;VALUE=DATE:20250406
DTEND;VALUE=DATE:20250407
DTSTAMP:20260422T173210
CREATED:20250319T022832Z
LAST-MODIFIED:20250319T022832Z
UID:8880-1743897600-1743983999@ironcountylodging.com
SUMMARY:$80 Carload Day - Ski Brule
DESCRIPTION:Visit Ski Brule’s website for more information!
URL:https://ironcountylodging.com/event/80-carload-day-ski-brule/
LOCATION:Ski Brule\, 397 Brule Mountain Rd\, Iron River\, MI\, 49935\, United States
CATEGORIES:Spring
END:VEVENT
BEGIN:VEVENT
DTSTART;TZID=America/Chicago:20250405T090000
DTEND;TZID=America/Chicago:20250405T150000
DTSTAMP:20260422T173210
CREATED:20250226T153824Z
LAST-MODIFIED:20250227T171902Z
UID:8558-1743843600-1743865200@ironcountylodging.com
SUMMARY:13th Annual Phelps Maple Syrup Contest
DESCRIPTION:Come celebrate Wisconsin’s rich maple syrup heritage at a fun\, family-friendly event in Phelps\, WI! This event is perfect for all ages and completely FREE for attendees. Plus\, a portion of the proceeds will support scholarships for local high school graduates pursuing higher education. Don’t miss this sweet celebration of tradition and community! \n  \nVisit Phelps Maple Syrup Fest‘s Facebook page for more details!
URL:https://ironcountylodging.com/event/13th-annual-phelps-maple-syrup-contest/
LOCATION:Phelps School\, 4451 Old School Rd\, Phelps\, WI\, 54554\, United States
CATEGORIES:Spring
END:VEVENT
BEGIN:VEVENT
DTSTART;VALUE=DATE:20250405
DTEND;VALUE=DATE:20250407
DTSTAMP:20260422T173210
CREATED:20250319T022709Z
LAST-MODIFIED:20250319T022709Z
UID:8876-1743811200-1743983999@ironcountylodging.com
SUMMARY:$80 Lift & Lodging Special - Ski Brule
DESCRIPTION:Visit Ski Brule’s website for more information!
URL:https://ironcountylodging.com/event/80-lift-lodging-special-ski-brule/
LOCATION:Ski Brule\, 397 Brule Mountain Rd\, Iron River\, MI\, 49935\, United States
CATEGORIES:Spring
END:VEVENT
BEGIN:VEVENT
DTSTART;TZID=America/Chicago:20250329T080000
DTEND;TZID=America/Chicago:20250329T170000
DTSTAMP:20260422T173210
CREATED:20250319T022531Z
LAST-MODIFIED:20250319T022531Z
UID:8873-1743235200-1743267600@ironcountylodging.com
SUMMARY:Scouting America Winter Merit Badge Day - Ski Brule
DESCRIPTION:Visit Ski Brule’s website for more information!
URL:https://ironcountylodging.com/event/scouting-america-winter-merit-badge-day-ski-brule/
LOCATION:Ski Brule\, 397 Brule Mountain Rd\, Iron River\, MI\, 49935\, United States
CATEGORIES:Spring
END:VEVENT
BEGIN:VEVENT
DTSTART;TZID=America/Chicago:20250327T080000
DTEND;TZID=America/Chicago:20250330T170000
DTSTAMP:20260422T173210
CREATED:20250319T022328Z
LAST-MODIFIED:20250319T022328Z
UID:8870-1743062400-1743354000@ironcountylodging.com
SUMMARY:Teacher Appreciation - Ski Brule
DESCRIPTION:Visit Ski Brule’s website for more information!
URL:https://ironcountylodging.com/event/teacher-appreciation-ski-brule/
LOCATION:Ski Brule\, 397 Brule Mountain Rd\, Iron River\, MI\, 49935\, United States
CATEGORIES:Spring
END:VEVENT
BEGIN:VEVENT
DTSTART;TZID=America/Chicago:20250322T080000
DTEND;TZID=America/Chicago:20250323T160000
DTSTAMP:20260422T173210
CREATED:20250319T021917Z
LAST-MODIFIED:20250319T021917Z
UID:8864-1742630400-1742745600@ironcountylodging.com
SUMMARY:Brule Bash - Ski Brule
DESCRIPTION:Visit Ski Brule’s website for more information! \n \n 
URL:https://ironcountylodging.com/event/brule-bash-ski-brule/
LOCATION:Ski Brule\, 397 Brule Mountain Rd\, Iron River\, MI\, 49935\, United States
CATEGORIES:Spring
END:VEVENT
BEGIN:VEVENT
DTSTART;TZID=America/Chicago:20250320T080000
DTEND;TZID=America/Chicago:20250323T170000
DTSTAMP:20260422T173210
CREATED:20250319T022137Z
LAST-MODIFIED:20250319T022137Z
UID:8867-1742457600-1742749200@ironcountylodging.com
SUMMARY:College Week - Ski Brule
DESCRIPTION:Visit Ski Brule’s website for more information!
URL:https://ironcountylodging.com/event/college-week-ski-brule/
LOCATION:Ski Brule\, 397 Brule Mountain Rd\, Iron River\, MI\, 49935\, United States
CATEGORIES:Spring
END:VEVENT
BEGIN:VEVENT
DTSTART;VALUE=DATE:20250308
DTEND;VALUE=DATE:20250309
DTSTAMP:20260422T173210
CREATED:20250226T154234Z
LAST-MODIFIED:20250227T171051Z
UID:8666-1741392000-1741478399@ironcountylodging.com
SUMMARY:Keyes Peak Uphill Truck Drags
DESCRIPTION:Get ready for the 6th Annual Keyes Uphill Truck Drags! This thrilling event is back and bigger than ever. Gates open at 8 AM\, so arrive early to grab a good spot and feel the excitement build. The races kick off at 10 AM sharp\, where trucks will roar to the top in an epic display of power and skill!  \nWhether you’re a die-hard fan or new to the action\, it’s a day you won’t want to miss. Bring your friends\, family\, and a whole lot of energy—it’s going to be an adrenaline-packed blast!  \nVisit Keyes Peak Uphill Truck Drags Facebook page for more details!
URL:https://ironcountylodging.com/event/keyes-peak-uphill-truck-drags/
LOCATION:Keyes Peak Uphill Truck Drags\, 4960 WI-101\, Florence\, WI\, 54121\, United States
CATEGORIES:Spring
END:VEVENT
BEGIN:VEVENT
DTSTART;TZID=America/Chicago:20250301T130000
DTEND;TZID=America/Chicago:20250301T170000
DTSTAMP:20260422T173210
CREATED:20250219T151051Z
LAST-MODIFIED:20250219T151051Z
UID:8498-1740834000-1740848400@ironcountylodging.com
SUMMARY:Iron River VFW 4-Point Smear Tournament
DESCRIPTION:Check out the VFW Ottawa Post 3134 Facebook page for more information
URL:https://ironcountylodging.com/event/iron-river-vfw-4-point-smear-tournament/
LOCATION:VFW Ottawa – Post #3134\, 94 E Genesee Street\, Iron River\, MI\, 49935\, United States
CATEGORIES:Spring
ATTACH;FMTTYPE=image/jpeg:https://ironcountylodging.com/wp-content/uploads/2025/02/Smear-Tourney-at-VFW-March-1.jpg
END:VEVENT
BEGIN:VEVENT
DTSTART;TZID=America/Chicago:20250301T120000
DTEND;TZID=America/Chicago:20250301T160000
DTSTAMP:20260422T173210
CREATED:20250227T150100Z
LAST-MODIFIED:20250227T171750Z
UID:8757-1740830400-1740844800@ironcountylodging.com
SUMMARY:Farmhouse on 424 - Discover Fresh Flavors
DESCRIPTION:Join Farmhouse on 424 for a special informational session all about raw milk! Learn the benefits\, taste it firsthand\, and enjoy delicious sourdough samples and freshly baked cinnamon rolls. \nThis is the perfect opportunity to explore their charming store\, see all the new products spring brings\, and discover what’s fresh and available. Don’t miss out on this tasty and informative experience! \n  \nVisit Farmhouse on 424’s Facebook page for more details!
URL:https://ironcountylodging.com/event/farmhouse-on-434-discover-fresh-flavors/
LOCATION:Farmhouse on 424\, 2296 CR-424\, Gaastra\, MI\, 49927\, United States
CATEGORIES:Spring
END:VEVENT
BEGIN:VEVENT
DTSTART;TZID=America/Chicago:20250222T090000
DTEND;TZID=America/Chicago:20250222T110000
DTSTAMP:20260422T173210
CREATED:20250219T145815Z
LAST-MODIFIED:20250219T145815Z
UID:8495-1740214800-1740222000@ironcountylodging.com
SUMMARY:Coffee & Donuts for Vets
DESCRIPTION:  \nCheck out Tufts Rondon VFW Post 2891 Facebook page for more information
URL:https://ironcountylodging.com/event/coffee-donuts-for-vets/
LOCATION:Tufts Rondon VFW – Post #2891\, 108 Superior Ave\, Crystal Falls\, MI\, 49920\, United States
CATEGORIES:Spring
END:VEVENT
BEGIN:VEVENT
DTSTART;VALUE=DATE:20250216
DTEND;VALUE=DATE:20250217
DTSTAMP:20260422T173210
CREATED:20250204T003949Z
LAST-MODIFIED:20250204T003949Z
UID:8431-1739664000-1739750399@ironcountylodging.com
SUMMARY:4th Annual Alpha Ice Bowl Disc Golf Tourney
DESCRIPTION:
URL:https://ironcountylodging.com/event/4th-annual-alpha-ice-bowl-disc-golf-tourney/
LOCATION:Alpha\, MI\, Alpha\, MI\, United States
CATEGORIES:Spring
END:VEVENT
BEGIN:VEVENT
DTSTART;TZID=America/Chicago:20250215T120000
DTEND;TZID=America/Chicago:20250215T170000
DTSTAMP:20260422T173210
CREATED:20250204T003628Z
LAST-MODIFIED:20250219T144800Z
UID:8426-1739620800-1739638800@ironcountylodging.com
SUMMARY:Tippin' Up 2025
DESCRIPTION:
URL:https://ironcountylodging.com/event/tippin-up-2025/
LOCATION:Alpha Michigan Brewing Company\, 303 E Center St\, Alpha\, MI\, 49902\, United States
CATEGORIES:Spring
END:VEVENT
BEGIN:VEVENT
DTSTART;VALUE=DATE:20250215
DTEND;VALUE=DATE:20250217
DTSTAMP:20260422T173210
CREATED:20250204T003754Z
LAST-MODIFIED:20250204T004012Z
UID:8429-1739577600-1739750399@ironcountylodging.com
SUMMARY:Michigan FREE Fishing Weekend
DESCRIPTION:
URL:https://ironcountylodging.com/event/michigan-free-fishing-weekend/
LOCATION:MI
CATEGORIES:Spring
END:VEVENT
END:VCALENDAR