BEGIN:VCALENDAR
VERSION:2.0
PRODID:-//Iron County Lodging Association - ECPv6.15.18//NONSGML v1.0//EN
CALSCALE:GREGORIAN
METHOD:PUBLISH
X-WR-CALNAME:Iron County Lodging Association
X-ORIGINAL-URL:https://ironcountylodging.com
X-WR-CALDESC:Events for Iron County Lodging Association
REFRESH-INTERVAL;VALUE=DURATION:PT1H
X-Robots-Tag:noindex
X-PUBLISHED-TTL:PT1H
BEGIN:VTIMEZONE
TZID:America/Chicago
BEGIN:DAYLIGHT
TZOFFSETFROM:-0600
TZOFFSETTO:-0500
TZNAME:CDT
DTSTART:20240310T080000
END:DAYLIGHT
BEGIN:STANDARD
TZOFFSETFROM:-0500
TZOFFSETTO:-0600
TZNAME:CST
DTSTART:20241103T070000
END:STANDARD
BEGIN:DAYLIGHT
TZOFFSETFROM:-0600
TZOFFSETTO:-0500
TZNAME:CDT
DTSTART:20250309T080000
END:DAYLIGHT
BEGIN:STANDARD
TZOFFSETFROM:-0500
TZOFFSETTO:-0600
TZNAME:CST
DTSTART:20251102T070000
END:STANDARD
BEGIN:DAYLIGHT
TZOFFSETFROM:-0600
TZOFFSETTO:-0500
TZNAME:CDT
DTSTART:20260308T080000
END:DAYLIGHT
BEGIN:STANDARD
TZOFFSETFROM:-0500
TZOFFSETTO:-0600
TZNAME:CST
DTSTART:20261101T070000
END:STANDARD
BEGIN:DAYLIGHT
TZOFFSETFROM:-0600
TZOFFSETTO:-0500
TZNAME:CDT
DTSTART:20270314T080000
END:DAYLIGHT
BEGIN:STANDARD
TZOFFSETFROM:-0500
TZOFFSETTO:-0600
TZNAME:CST
DTSTART:20271107T070000
END:STANDARD
END:VTIMEZONE
BEGIN:VEVENT
DTSTART;TZID=America/Chicago:20260122T170000
DTEND;TZID=America/Chicago:20260124T190000
DTSTAMP:20260422T175254
CREATED:20260123T012902Z
LAST-MODIFIED:20260123T013436Z
UID:10723-1769101200-1769281200@ironcountylodging.com
SUMMARY:Predator Hunt at Amasa Sawblade
DESCRIPTION:Join Amasa Sawblade for their first ever Predator Hunt\, welcoming individual hunters and teams for a multi day winter event with prizes\, food\, and live music. \nEvent Dates & Times\nRegistration: Thursday\, January 22 from 5:00 – 7:00 PM complimentary pizza served at 6:00 PM.\nThe hunt begins Thursday at 7:00 PM and runs through Saturday\, January 24.\nAll harvested animals must be checked in on Saturday between 3:00–5:00 PM. \nRegistration Fees\n$25 per registered hunter\n$15 per licensed youth (17 & under)\nTeams are welcome\nAll registration fees go toward prizes \nPrizes\nAwards will be given for the heaviest Bobcat\, Coyote\, and Fox.\nThe Sawblade Trifecta – harvesting one of each species earns hunters their registration fee back. \nSaturday Night Finale\nLive music begins at 5:00 PM\, along with a bonfire and food to close out the event. \nQuestions or More Information\nContact John at: (906) 214-8770 or (906) 822-0192. \n 
URL:https://ironcountylodging.com/event/predator-hunt-at-amasa-sawblade/
LOCATION:Amasa Sawblade\, 110 W Pine St.\, Amasa\, MI\, 49903\, United States
CATEGORIES:Community Event,Hunting
END:VEVENT
BEGIN:VEVENT
DTSTART;VALUE=DATE:20260122
DTEND;VALUE=DATE:20260126
DTSTAMP:20260422T175254
CREATED:20251212T013645Z
LAST-MODIFIED:20251212T013645Z
UID:10307-1769040000-1769385599@ironcountylodging.com
SUMMARY:Military Appreciation Week at Ski Brule
DESCRIPTION:Ski Brule is honouring active duty military members\, veterans\, and their families during a dedicated Military Appreciation Week. This recognition event offers eligible guests and their accompanying families the opportunity to enjoy winter fun in celebration of their service.
URL:https://ironcountylodging.com/event/military-appreciation-week-at-ski-brule-2/
LOCATION:Ski Brule\, 397 Brule Mountain Rd\, Iron River\, MI\, 49935\, United States
CATEGORIES:outdoor recreation,Winter
END:VEVENT
BEGIN:VEVENT
DTSTART;VALUE=DATE:20260122
DTEND;VALUE=DATE:20260123
DTSTAMP:20260422T175254
CREATED:20260106T161019Z
LAST-MODIFIED:20260106T162034Z
UID:10652-1769040000-1769126399@ironcountylodging.com
SUMMARY:Bingo
DESCRIPTION:The Crystal Falls / Iron River Masonic Lodge will host a Bingo event on January 22. Community members and visitors are invited to attend and enjoy a classic game night in a local lodge setting. Additional event details will be shared as they become available.
URL:https://ironcountylodging.com/event/bingo/
LOCATION:CF/ IR Masonic Lodge #385\, 809 US-141\, Crystal Falls\, MI\, 49920\, United States
CATEGORIES:Community Event
END:VEVENT
BEGIN:VEVENT
DTSTART;VALUE=DATE:20260119
DTEND;VALUE=DATE:20260120
DTSTAMP:20260422T175254
CREATED:20251212T021305Z
LAST-MODIFIED:20251217T171455Z
UID:10320-1768780800-1768867199@ironcountylodging.com
SUMMARY:Martin Luther King Jr. Day
DESCRIPTION:
URL:https://ironcountylodging.com/event/martin-luther-king-jr-day/
LOCATION:MI
CATEGORIES:Holiday Event
END:VEVENT
BEGIN:VEVENT
DTSTART;TZID=America/Chicago:20260117T170000
DTEND;TZID=America/Chicago:20260117T200000
DTSTAMP:20260422T175254
CREATED:20251208T193023Z
LAST-MODIFIED:20251208T193023Z
UID:10234-1768669200-1768680000@ironcountylodging.com
SUMMARY:Pat Lowery Live Music at The Homestead Lodge Ski Brule
DESCRIPTION:Enjoy live music Saturday nights at the Homestead Lodge with Pat Lowery. Settle in for a cozy evening featuring warm BBQ dinner\, sleigh rides\, tubing\, and a marshmallow roast. It’s a must experience winter tradition at Ski Brule perfect for families\, couples\, and anyone looking to unwind after a day on the snow.
URL:https://ironcountylodging.com/event/pat-lowery-homestead-lodge-january-17-2026/
LOCATION:Ski Brule\, 397 Brule Mountain Rd\, Iron River\, MI\, 49935\, United States
CATEGORIES:Live Music,Winter
END:VEVENT
BEGIN:VEVENT
DTSTART;TZID=America/Chicago:20260117T140000
DTEND;TZID=America/Chicago:20260117T170000
DTSTAMP:20260422T175254
CREATED:20251212T022057Z
LAST-MODIFIED:20251212T022057Z
UID:10322-1768658400-1768669200@ironcountylodging.com
SUMMARY:D.B. Rouse Live Music at the Ski Brule Saloon
DESCRIPTION:Enjoy an afternoon of live music with D.B. Rouse at the Brule Saloon. This winter performance offers a relaxing and upbeat après-ski atmosphere for guests spending the day at Ski Brule. A great way to unwind and enjoy live entertainment during your visit.
URL:https://ironcountylodging.com/event/d-b-rouse-live-music-at-the-ski-brule-saloon/
LOCATION:Ski Brule\, 397 Brule Mountain Rd\, Iron River\, MI\, 49935\, United States
CATEGORIES:Live Music,Winter
END:VEVENT
BEGIN:VEVENT
DTSTART;VALUE=DATE:20260117
DTEND;VALUE=DATE:20260119
DTSTAMP:20260422T175254
CREATED:20251213T225651Z
LAST-MODIFIED:20251213T225724Z
UID:10372-1768608000-1768780799@ironcountylodging.com
SUMMARY:6th World Championship Pro Enduro
DESCRIPTION:The World Championship Pro Enduro returns for an action packed weekend of elite snowmobile racing. Following the World Championship Snowmobile Derby\, top riders take on a demanding endurance format at the iconic Derby Complex in Eagle River. Spectators can experience high energy racing as drivers push speed\, skill\, and stamina to the limit in this premier winter motorsports event.
URL:https://ironcountylodging.com/event/6th-world-championship-pro-enduro/
LOCATION:World Championship Derby Complex\, 1311 N Railroad At.\, Eagle River\, WI\, 54521\, United States
CATEGORIES:Entertainment,outdoor recreation
END:VEVENT
BEGIN:VEVENT
DTSTART;TZID=America/Chicago:20260116T183000
DTEND;TZID=America/Chicago:20260116T183000
DTSTAMP:20260422T175254
CREATED:20260106T150825Z
LAST-MODIFIED:20260106T155324Z
UID:10639-1768588200-1768588200@ironcountylodging.com
SUMMARY:Texas Hold'em Tournament (Caspian–Gaastra Fire Department)
DESCRIPTION:The Caspian–Gaastra Fire Department hosts four tournaments throughout the year in support of local fire department operations and community services. The January 16\, 2026 event is part of this ongoing tournament series and welcomes community members and visitors to take part in a locally supported fundraiser. \nMeals will be provided for players and workers thanks to the support of Bumps Burgers. \nAdditional Tournament Dates\nThis Texas Hold’em tournament is part of a multi-date fundraiser series hosted by the Caspian–Gaastra Fire Department. \nUpcoming  Tournaments: \n• February 20\, 2026\n• March 20\, 2026 \nFood & Hospitality\nMeals provided for players and workers\nCourtesy of Bumps Burgers (Iron River) \nRegistration & Questions\n📞 Contact Matt at 906-284-0036\n📧 Email caspiangaastra@yahoo.com \nAudience\nCommunity members\nTournament participants\nVisitors interested in local fundraisers and Iron County events
URL:https://ironcountylodging.com/event/texas-holdem-tournament-caspian-gaastra-fire-department/
LOCATION:Caspian Gaastra Fire Department\, 1 Museum Drive\, Caspian\, MI\, 49915\, United States
CATEGORIES:Community Event
END:VEVENT
BEGIN:VEVENT
DTSTART;TZID=America/Chicago:20260110T170000
DTEND;TZID=America/Chicago:20260110T200000
DTSTAMP:20260422T175254
CREATED:20251208T192639Z
LAST-MODIFIED:20251208T192639Z
UID:10232-1768064400-1768075200@ironcountylodging.com
SUMMARY:Pat Lowery Live Music at The Homestead Lodge Ski Brule
DESCRIPTION:Enjoy live music Saturday nights at the Homestead Lodge with Pat Lowery. Settle in for a cozy evening featuring warm BBQ dinner\, sleigh rides\, tubing\, and a marshmallow roast. It’s a must experience winter tradition at Ski Brule perfect for families\, couples\, and anyone looking to unwind after a day on the snow.
URL:https://ironcountylodging.com/event/pat-lowery-homestead-lodge-january-10-2026/
LOCATION:Ski Brule\, 397 Brule Mountain Rd\, Iron River\, MI\, 49935\, United States
CATEGORIES:Live Music,Winter
END:VEVENT
BEGIN:VEVENT
DTSTART;TZID=America/Chicago:20260110T140000
DTEND;TZID=America/Chicago:20260110T170000
DTSTAMP:20260422T175254
CREATED:20251208T223807Z
LAST-MODIFIED:20251208T223807Z
UID:10260-1768053600-1768064400@ironcountylodging.com
SUMMARY:Live Music with Pink Violin at The Ski Brule Saloon
DESCRIPTION:Enjoy live music with the Pink Violin Band at the Brule Saloon from 2–5 PM. Relax with great drinks\, lively entertainment\, and Ski Brule’s fun après ski atmosphere. It’s the perfect way to unwind after a day on the slopes and enjoy the winter season with friends and family.
URL:https://ironcountylodging.com/event/pink-violin-band-brule-saloon-january-10-2026/
LOCATION:Ski Brule\, 397 Brule Mountain Rd\, Iron River\, MI\, 49935\, United States
CATEGORIES:Live Music,Winter
END:VEVENT
BEGIN:VEVENT
DTSTART;VALUE=DATE:20260110
DTEND;VALUE=DATE:20260112
DTSTAMP:20260422T175254
CREATED:20251116T163001Z
LAST-MODIFIED:20251213T220533Z
UID:9931-1768003200-1768175999@ironcountylodging.com
SUMMARY:Free Snowmobiling Weekend Iron County – Michigan DNR
DESCRIPTION:Experience two days of unlimited trail riding during Free Snowmobiling Weekend Michigan 2026\, happening January 10 & 11\, 2026. This annual event allows riders to explore Michigan’s winter trails without the usual registration or permit requirements. Free Snowmobiling Weekend Michigan 2026 is open to both residents and visitors\, making it an ideal time to ride with family and friends. \nEnjoy access to more than 6\,000 miles of DNR designated snowmobile trails\, along with approved public roads and public lands. This weekend gives experienced riders the chance to introduce new riders to the sport and enjoy some of the best winter terrain in the Upper Peninsula. \nEvent Highlights: \nNo trail permit or registration required Jan. 10–11 \nOpen to both residents and visitors \nRide 6\,000+ miles of legal trails and designated areas \nAll safety rules and regulations still apply \nRecreation Passport required where applicable \n  \nCheck current conditions before you ride with the Iron County Snow Conditions & Trail Report.\nReview statewide guidelines at the Michigan DNR Snowmobiling Page.\nPlan your winter stay here: Iron County Hotels & Lodging. \nDates: January 10–11\, 2026\nLocation: Michigan (Iron County highlighted as a top trail destination)\nCost: Free snowmobiling (registration/permit waived)\nEvent Type: Outdoor Recreation\, Winter Activities\, Family Friendly
URL:https://ironcountylodging.com/event/free-snowmobiling-weekend-michigan-dnr/
LOCATION:MI
CATEGORIES:Winter
ATTACH;FMTTYPE=image/jpeg:https://ironcountylodging.com/wp-content/uploads/2025/12/IC-winter-ad-4.jpg
END:VEVENT
BEGIN:VEVENT
DTSTART;VALUE=DATE:20260108
DTEND;VALUE=DATE:20260112
DTSTAMP:20260422T175254
CREATED:20251213T224946Z
LAST-MODIFIED:20251213T225146Z
UID:10369-1767830400-1768175999@ironcountylodging.com
SUMMARY:25th Vintage World Championship Snowmobile Races
DESCRIPTION:Celebrate the history of snowmobile racing at the 25th Vintage World Championship Snowmobile Races. This multi-day event features classic vintage sleds from the 1960s through the 1980s competing on the ice\, along with vendor displays and manufacturer exhibits. A must see winter tradition for racing fans and snowmobile enthusiasts.
URL:https://ironcountylodging.com/event/25th-vintage-world-championship-snowmobile-races/
LOCATION:World Championship Derby Complex\, 1311 N Railroad At.\, Eagle River\, WI\, 54521\, United States
CATEGORIES:Entertainment,outdoor recreation,Winter
END:VEVENT
BEGIN:VEVENT
DTSTART;VALUE=DATE:20260108
DTEND;VALUE=DATE:20260112
DTSTAMP:20260422T175254
CREATED:20251212T000233Z
LAST-MODIFIED:20251212T011521Z
UID:10296-1767830400-1768175999@ironcountylodging.com
SUMMARY:Scrubs & Medical Appreciation Week at Ski Brule
DESCRIPTION:Ski Brule is recognizing medical professionals with a dedicated Appreciation Week. Eligible guests can enjoy a week designed to show gratitude for those working in healthcare. Special access considerations apply for medical workers and their accompanying guests during their visit.
URL:https://ironcountylodging.com/event/scrubs-medical-appreciation-week-at-ski-brule/
LOCATION:Ski Brule\, 397 Brule Mountain Rd\, Iron River\, MI\, 49935\, United States
CATEGORIES:Community Event,Winter
END:VEVENT
BEGIN:VEVENT
DTSTART;TZID=America/Chicago:20260103T170000
DTEND;TZID=America/Chicago:20260103T200000
DTSTAMP:20260422T175254
CREATED:20251208T185646Z
LAST-MODIFIED:20251208T191859Z
UID:10227-1767459600-1767470400@ironcountylodging.com
SUMMARY:Pat Lowery Live Music at The Homestead Lodge Ski Brule
DESCRIPTION:Enjoy live music Saturday nights at the Homestead Lodge with Pat Lowery. Settle in for a cozy evening featuring warm BBQ dinner\, sleigh rides\, tubing\, and a marshmallow roast. It’s a must experience winter tradition at Ski Brule perfect for families\, couples\, and anyone looking to unwind after a day on the snow.
URL:https://ironcountylodging.com/event/pat-lowery-homestead-lodge-january-3-2026/
LOCATION:Ski Brule\, 397 Brule Mountain Rd\, Iron River\, MI\, 49935\, United States
CATEGORIES:Live Music,Winter
END:VEVENT
BEGIN:VEVENT
DTSTART;TZID=America/Chicago:20260103T140000
DTEND;TZID=America/Chicago:20260103T170000
DTSTAMP:20260422T175254
CREATED:20251208T230311Z
LAST-MODIFIED:20251208T230311Z
UID:10276-1767448800-1767459600@ironcountylodging.com
SUMMARY:Live Music with Jonny Waara at The Ski Brule Saloon
DESCRIPTION:Enjoy live music with Jonny Waara at the Brule Saloon from 2–5 PM. Pair great drinks with upbeat entertainment and Ski Brule’s lively après ski atmosphere. The perfect way to unwind and enjoy the winter season with friends and family.
URL:https://ironcountylodging.com/event/jonny-waara-brule-saloon-january-3-2026/
LOCATION:Ski Brule\, 397 Brule Mountain Rd\, Iron River\, MI\, 49935\, United States
CATEGORIES:Live Music,Winter
END:VEVENT
BEGIN:VEVENT
DTSTART;TZID=America/Chicago:20260103T120000
DTEND;TZID=America/Chicago:20260103T170000
DTSTAMP:20260422T175254
CREATED:20251213T234402Z
LAST-MODIFIED:20251213T234535Z
UID:10400-1767441600-1767459600@ironcountylodging.com
SUMMARY:Sunday Funday
DESCRIPTION:
URL:https://ironcountylodging.com/event/sunday-funday-5/
LOCATION:VFW Ottawa – Post #3134\, 94 E Genesee Street\, Iron River\, MI\, 49935\, United States
CATEGORIES:Entertainment
END:VEVENT
BEGIN:VEVENT
DTSTART;VALUE=DATE:20260101
DTEND;VALUE=DATE:20260102
DTSTAMP:20260422T175254
CREATED:20251212T021050Z
LAST-MODIFIED:20251217T205443Z
UID:10316-1767225600-1767311999@ironcountylodging.com
SUMMARY:New Years Day
DESCRIPTION:
URL:https://ironcountylodging.com/event/new-years-day/
LOCATION:Iron County Lodging Association\, 1700 County Rd. 424\, Gaastra\, MI\, 49927\, United States
CATEGORIES:Holiday
END:VEVENT
BEGIN:VEVENT
DTSTART;TZID=America/Chicago:20251231T173000
DTEND;TZID=America/Chicago:20251231T200000
DTSTAMP:20260422T175254
CREATED:20251213T232021Z
LAST-MODIFIED:20251213T233516Z
UID:10381-1767202200-1767211200@ironcountylodging.com
SUMMARY:New Years Eve Steak Feed
DESCRIPTION:Enjoy a classic community steak feed hosted by VFW Ottawa Post 3134 and its Auxiliary. This monthly gathering offers a relaxed evening of good food and local camaraderie in downtown Iron River. Open to the public and held at the VFW hall\, it’s a long-standing tradition enjoyed by locals and visitors alike.\nPlease call the VFW and reserve your steak. 906-265-9412.
URL:https://ironcountylodging.com/event/monthly-steak-feed/
LOCATION:VFW Ottawa – Post #3134\, 94 E Genesee Street\, Iron River\, MI\, 49935\, United States
CATEGORIES:Community Event
END:VEVENT
BEGIN:VEVENT
DTSTART;TZID=America/Chicago:20251231T170000
DTEND;TZID=America/Chicago:20251231T210000
DTSTAMP:20260422T175254
CREATED:20251213T202852Z
LAST-MODIFIED:20251213T205524Z
UID:10338-1767200400-1767214800@ironcountylodging.com
SUMMARY:New Year’s Eve Dining at Young’s FireBrick Bar & Grill
DESCRIPTION:Ring in the New Year with a special New Year’s Eve dining experience at Young’s FireBrick Bar & Grill in Iron River. Guests can enjoy an elegant multi course dinner in a festive\, welcoming atmosphere perfect for celebrating the final night of the year with friends or family. Reservations are recommended for this popular New Year’s Eve event.
URL:https://ironcountylodging.com/event/new-years-eve-dining-at-youngs-firebrick-bar-grill/
LOCATION:Young’s Golf-Recreation-Dining\, 159 Young's Lane\, Crystal Falls\, MI\, 49920\, United States
CATEGORIES:Entertainment,Holiday Event
END:VEVENT
BEGIN:VEVENT
DTSTART;VALUE=DATE:20251231
DTEND;VALUE=DATE:20260101
DTSTAMP:20260422T175254
CREATED:20251116T205815Z
LAST-MODIFIED:20251217T210200Z
UID:9937-1767139200-1767225599@ironcountylodging.com
SUMMARY:New Year’s Eve at Ski Brule - Torchlight Parade\, Fireworks & Dinner
DESCRIPTION:CelebrateNew Year’s Eve Ski Brule 2025 with a full day of skiing\, family fun\, fireworks\, and holiday festivities. Ski Brule offers extended hours on December 31 with lifts running 9:00 AM–4:00 PM and again for night skiing 4:30–7:30 PM (weather permitting). \nAt 9:00 PM\, head to Big Bear Trail for the spectacular Torchlight Parade & Fireworks Show. Olympic Gold Medalist Nick Baumgartner will be on-site December 29–31 for meet-and-greets\, autograph signing\, and will lead the torchlight parade. \nNew Year’s Eve Dinner\nServed 6:00–8:00 PM at the Brule Lodge.\nPricing: \nAdults: $21 \nJunior: $17 \nKids: $11 \nDinner includes: sliced prime rib\, roasted turkey\, carved ham\, stuffing\, mashed potatoes\, roasted vegetables\, salad\, dinner rolls\, cranberry sauce\, dessert\, and a beverage (soda\, milk\, or hot cocoa). Dinner tickets must be purchased by 3:00 PM at the Bear’s Den\, Guest Service Desk\, or Lodging Office. Menu items subject to change. \nEnjoy live music in the lodge from 2:00–5:00 PM by the Pink Violin Band. \nHelpful Links\nPlan your stay:\nhttps://ironcountylodging.com/iron-county-mi-hotels-area-lodging/ \nMore information from Ski Brule:\nhttps://skibrule.com
URL:https://ironcountylodging.com/event/new-years-eve-ski-brule-2025/
LOCATION:Ski Brule\, 397 Brule Mountain Rd\, Iron River\, MI\, 49935\, United States
CATEGORIES:Holiday Event,Winter
END:VEVENT
BEGIN:VEVENT
DTSTART;TZID=America/Chicago:20251230T170000
DTEND;TZID=America/Chicago:20251230T200000
DTSTAMP:20260422T175254
CREATED:20251210T130145Z
LAST-MODIFIED:20251210T130145Z
UID:10292-1767114000-1767124800@ironcountylodging.com
SUMMARY:Homestead Lodge BBQ Dinner & Sleigh Ride\, Ski Brule
DESCRIPTION:Experience one of Ski Brule’s most beloved winter traditions the Homestead Lodge BBQ Dinner\, complete with a marshmallow roast\, sleigh ride\, and tubing. After a full day on the slopes\, unwind with an evening of comfort food and classic northwoods fun.
URL:https://ironcountylodging.com/event/homestead-lodge-bbq-dinner-sleigh-ride-ski-brule-2/
LOCATION:Ski Brule\, 397 Brule Mountain Rd\, Iron River\, MI\, 49935\, United States
CATEGORIES:Family Event,Winter
END:VEVENT
BEGIN:VEVENT
DTSTART;TZID=America/Chicago:20251230T170000
DTEND;TZID=America/Chicago:20251230T200000
DTSTAMP:20260422T175254
CREATED:20251110T223512Z
LAST-MODIFIED:20251110T223512Z
UID:9855-1767114000-1767124800@ironcountylodging.com
SUMMARY:Pat Lowery Live at Homestead Lodge\, Ski Brule
DESCRIPTION:Enjoy a winter evening filled with great food\, live entertainment\, and cozy lodge vibes at Ski Brule’s Homestead Lodge. Join us Saturday nights from December through March (5:00 PM – 8:00 PM) for live music by Pat Lowery\, paired with delicious food and classic Ski Brule fun. \nEach Saturday features a BBQ dinner\, sleigh rides\, tubing\, and a marshmallow roast—a complete winter experience for families\, couples\, and groups. Whether you come for the music or the mountain atmosphere\, the Homestead Lodge is the perfect spot to relax after a day on the slopes. \nThis event is part of Ski Brule’s seasonal entertainment lineup\, bringing live local music and outdoor fun to Iron County’s favourite winter destination. \nPlan your visit early and explore local accommodations through Iron County Hotels & Lodging. \nRecurring Dates: \nDecember: 30 \nJanuary: 3\, 10\, 17\, 24\, 31 \nFebruary: 7\, 14\, 21\, 28 \nMarch: 7\, 14\, 21 \nTime: 5:00 PM – 8:00 PM\nLocation: Homestead Lodge\, Ski Brule\, 397 Brule Mtn Rd\, Iron River\, MI 49935\nActivities: Live Music\, BBQ Dinner\, Sleigh Ride\, Tubing\, Marshmallow Roast\nContact: (906) 265-6111 | info@skibrule.com
URL:https://ironcountylodging.com/event/pat-lowery-live-at-homestead-lodge-ski-brule-3/
LOCATION:Ski Brule\, 397 Brule Mountain Rd\, Iron River\, MI\, 49935\, United States
CATEGORIES:Entertainment,Family Event,Winter
ATTACH;FMTTYPE=image/jpeg:https://ironcountylodging.com/wp-content/uploads/2025/11/Pat-Lowery-@-HS-scaled-1.jpg
END:VEVENT
BEGIN:VEVENT
DTSTART;TZID=America/Chicago:20251229T090000
DTEND;TZID=America/Chicago:20251231T160000
DTSTAMP:20260422T175254
CREATED:20251209T145122Z
LAST-MODIFIED:20251209T145122Z
UID:10284-1766998800-1767196800@ironcountylodging.com
SUMMARY:Ride With Olympic Gold Medalist Nick Baumgartner
DESCRIPTION:This is your chance to hit the slopes with Olympic Gold Medalist Nick Baumgartner at Ski Brule! Join Nick for three incredible days December 29\, 30\, and 31 for on snow fun\, unforgettable winter experiences\, and the best early-season riding conditions. Perfect for fans\, families\, and anyone looking to level up their love of snow sports. \nSki Brule delivers some of the best snow in the Midwest\, and riding alongside Nick makes this a can’t-miss part of the holiday week.
URL:https://ironcountylodging.com/event/ride-with-olympic-gold-medalist-nick-baumgartner/
LOCATION:Ski Brule\, 397 Brule Mountain Rd\, Iron River\, MI\, 49935\, United States
CATEGORIES:outdoor recreation,Winter
END:VEVENT
BEGIN:VEVENT
DTSTART;TZID=America/Chicago:20251228T170000
DTEND;TZID=America/Chicago:20251228T200000
DTSTAMP:20260422T175254
CREATED:20251210T125600Z
LAST-MODIFIED:20251210T125708Z
UID:10290-1766941200-1766952000@ironcountylodging.com
SUMMARY:Homestead Lodge BBQ Dinner & Sleigh Ride\, Ski Brule
DESCRIPTION:Experience one of Ski Brule’s most beloved winter traditions the Homestead Lodge BBQ Dinner\, complete with a marshmallow roast\, sleigh ride\, and tubing. After a full day on the slopes\, unwind with an evening of comfort food and classic northwoods fun.
URL:https://ironcountylodging.com/event/homestead-lodge-bbq-dinner-sleigh-ride-ski-brule/
LOCATION:Ski Brule\, 397 Brule Mountain Rd\, Iron River\, MI\, 49935\, United States
CATEGORIES:Family Event,Winter
END:VEVENT
BEGIN:VEVENT
DTSTART;TZID=America/Chicago:20251228T120000
DTEND;TZID=America/Chicago:20251228T170000
DTSTAMP:20260422T175254
CREATED:20251213T234306Z
LAST-MODIFIED:20251213T234306Z
UID:10398-1766923200-1766941200@ironcountylodging.com
SUMMARY:Sunday Funday
DESCRIPTION:
URL:https://ironcountylodging.com/event/sunday-funday-4/
LOCATION:VFW Ottawa – Post #3134\, 94 E Genesee Street\, Iron River\, MI\, 49935\, United States
CATEGORIES:Entertainment
END:VEVENT
BEGIN:VEVENT
DTSTART;TZID=America/Chicago:20251227T140000
DTEND;TZID=America/Chicago:20251231T170000
DTSTAMP:20260422T175254
CREATED:20251208T223222Z
LAST-MODIFIED:20251208T223442Z
UID:10257-1766844000-1767200400@ironcountylodging.com
SUMMARY:Live Music with Pink Violin at The Ski Brule Saloon
DESCRIPTION:Enjoy live music with the Pink Violin Band at the Brule Saloon from  2-5 PM. Relax with great drinks\, lively entertainment\, and Ski Brule’s fun après ski atmosphere. It’s the perfect way to unwind after a day on the slopes and enjoy the winter season with friends and family.
URL:https://ironcountylodging.com/event/pink-violin-band-brule-saloon-december-27-2025/
LOCATION:Ski Brule\, 397 Brule Mountain Rd\, Iron River\, MI\, 49935\, United States
CATEGORIES:Live Music,Winter
END:VEVENT
BEGIN:VEVENT
DTSTART;TZID=America/Chicago:20251226T173000
DTEND;TZID=America/Chicago:20251226T200000
DTSTAMP:20260422T175254
CREATED:20251213T232703Z
LAST-MODIFIED:20251213T232703Z
UID:10383-1766770200-1766779200@ironcountylodging.com
SUMMARY:Friday Fish Fry
DESCRIPTION:Enjoy a classic Friday Fish Fry at VFW Ottawa Post 3134 in Iron River. This community favourite offers a relaxed evening with traditional fish fry options served in a welcoming\, small town setting. A great way to kick off the weekend and enjoy a local tradition.
URL:https://ironcountylodging.com/event/friday-fish-fry/
LOCATION:VFW Ottawa – Post #3134\, 94 E Genesee Street\, Iron River\, MI\, 49935\, United States
CATEGORIES:Community Event
END:VEVENT
BEGIN:VEVENT
DTSTART;TZID=America/Chicago:20251226T140000
DTEND;TZID=America/Chicago:20251226T170000
DTSTAMP:20260422T175254
CREATED:20251208T225903Z
LAST-MODIFIED:20251208T225903Z
UID:10273-1766757600-1766768400@ironcountylodging.com
SUMMARY:Live Music with Jonny Waara at The Ski Brule Saloon
DESCRIPTION:Enjoy live music with Jonny Waara at the Brule Saloon from 2–5 PM. Pair great drinks with upbeat entertainment and Ski Brule’s lively après-ski atmosphere. The perfect way to unwind and enjoy the winter season with friends and family.
URL:https://ironcountylodging.com/event/jonny-waara-brule-saloon-december-26-2025/
LOCATION:Ski Brule\, 397 Brule Mountain Rd\, Iron River\, MI\, 49935\, United States
CATEGORIES:Live Music,Winter
END:VEVENT
BEGIN:VEVENT
DTSTART;TZID=America/Chicago:20251225T120000
DTEND;TZID=America/Chicago:20251225T150000
DTSTAMP:20260422T175254
CREATED:20251214T003313Z
LAST-MODIFIED:20251217T204105Z
UID:10413-1766664000-1766674800@ironcountylodging.com
SUMMARY:Christmas Day Community Meal at Bump’s Burgers
DESCRIPTION:Celebrate Christmas Day with a free community meal at Bump’s Burgers in Iron River. Guests are welcome to dine in\, take out\, or request delivery. The holiday meal includes glazed ham with cream sauce\, scalloped potatoes\, candied carrots\, a dinner roll\, milk\, and dessert. This meal is free to anyone\, no questions asked\, and is provided in collaboration with First Baptist Church of Iron River.
URL:https://ironcountylodging.com/event/christmas-day-community-meal-at-bumps-burgers/
LOCATION:Bumps Burgers\, 119 W Genesee St\, Iron River\, MI\, 49935\, United States
CATEGORIES:Food & Bev,Holiday Event
END:VEVENT
BEGIN:VEVENT
DTSTART;VALUE=DATE:20251225
DTEND;VALUE=DATE:20251226
DTSTAMP:20260422T175254
CREATED:20251201T171212Z
LAST-MODIFIED:20251217T205059Z
UID:10168-1766620800-1766707199@ironcountylodging.com
SUMMARY:Christmas Day in Iron County
DESCRIPTION:Celebrate Christmas Day surrounded by the peaceful charm of Iron County. Whether you’re here visiting family\, enjoying a winter getaway\, or simply embracing the beauty of a quiet holiday morning\, Iron County offers a warm and welcoming place to spend December 25. Enjoy snowy landscapes\, festive lights throughout the county\, and cozy moments with the people you love. \nSome businesses\, restaurants\, and recreation sites may have special holiday hours \,visitors are encouraged to check ahead and plan accordingly. \nMake your holiday stay extra comfortable by exploring local lodging options through the Iron County Lodging Council.
URL:https://ironcountylodging.com/event/christmas-day-in-iron-county/
LOCATION:Iron County Lodging Association\, 1700 County Rd. 424\, Gaastra\, MI\, 49927\, United States
CATEGORIES:Holiday
END:VEVENT
END:VCALENDAR